BEGIN:VCALENDAR
VERSION:2.0
PRODID:-//ChamberMaster//Event Calendar 2.0//EN
METHOD:PUBLISH
X-PUBLISHED-TTL:P3D
REFRESH-INTERVAL:P3D
CALSCALE:GREGORIAN
BEGIN:VEVENT
DTSTART:20220923T020000Z
DTEND:20220923T030000Z
X-MICROSOFT-CDO-ALLDAYEVENT:FALSE
SUMMARY:Manufacturing Committee: Global Logistics - Outlook and Recommendations
DESCRIPTION:What does the near future hold for the logistics industry\, and how can manufacturers best prepare to achieve maximum reliability and value from their logistics activities? \n\n\n\nPandemic-era restrictions created the first wave of disruption in global logistics\, but the post-Covid recovery period has brought additional challenges for the logistics industry. Manufacturers worldwide find themselves struggling to adapt to the rapidly changing environment. \n\n \n\nJoin us in welcoming our speaker\, Edwin Pinto\, Head of Marketing & Sales for Indochina at DHL Global Forwarding for an insightful review and discussion on the logistics industry today and looking ahead.\n\n\n\nAbout the Speaker\n\n\n\nEdwin Pinto is the Head of Sales and Marketing of DHL Global Forwarding (DGF)\, Indochina Region\, and has been with the DHL group since 2001\, previously serving as the Director of Automotive Sector Development for DGF South Asia Pacific and Africa. With over 20 years of experience across various markets\, his expertise spans across industry verticals. An alumni of the INSEAD Business School\, he is especially passionate about using technology to address complex logistics processes.
X-ALT-DESC;FMTTYPE=text/html:<div>What does the near&nbsp\;future hold for the logistics industry\, and how can manufacturers best prepare to achieve maximum reliability and value from their logistics activities?&nbsp\;<br />\n<br />\nPandemic-era restrictions&nbsp\;created the first wave of disruption in&nbsp\;global logistics\, but the post-Covid&nbsp\;recovery period has brought additional challenges for&nbsp\;the logistics industry.&nbsp\;Manufacturers worldwide find themselves struggling to adapt to the rapidly changing environment.&nbsp\;</div>\n\n<div>&nbsp\;</div>\n\n<div>Join us in welcoming our speaker\, Edwin Pinto\, Head of Marketing &amp\; Sales for Indochina at DHL Global Forwarding for&nbsp\;an insightful review and discussion on the logistics industry today and looking ahead.<br />\n<br />\n<strong>About the Speaker</strong><br />\n<br />\n<a href="https://th.linkedin.com/in/edwinpinto">Edwin Pinto</a> is the Head of Sales and Marketing of DHL&nbsp\;Global Forwarding (DGF)\, Indochina Region\, and has been with the DHL group since 2001\, previously serving as&nbsp\;the Director of Automotive Sector Development for DGF&nbsp\;South Asia Pacific and Africa. With over 20 years of experience across various markets\, his expertise spans across industry verticals. An alumni of the INSEAD Business School\,&nbsp\;he is especially passionate about using technology to address complex logistics processes.<br />\n<br />\n&nbsp\;</div>\n
LOCATION:Online Webinar
UID:e.3314.2292
SEQUENCE:3
DTSTAMP:20260420T161607Z
URL:http://www.connect.amchamthailand.com/events/details/manufacturing-committee-global-logistics-outlook-and-recommendations-2292
END:VEVENT

END:VCALENDAR
