BEGIN:VCALENDAR
VERSION:2.0
PRODID:-//ChamberMaster//Event Calendar 2.0//EN
METHOD:PUBLISH
X-PUBLISHED-TTL:P3D
REFRESH-INTERVAL:P3D
CALSCALE:GREGORIAN
BEGIN:VEVENT
DTSTART:20220602T070000Z
DTEND:20220602T090000Z
X-MICROSOFT-CDO-ALLDAYEVENT:FALSE
SUMMARY:Manufacturing Committee: Jelly Belly Factory Tour
DESCRIPTION:We are pleased to kick off the first meeting of the newly established Manufacturing Committee with a factory visit to Jelly Belly Candy Company (Thailand) Ltd.\, on the WHA Eastern Seaboard Industrial Estate in Rayong.\n\n\n\nJelly Belly Candy Company is family-owned and operated by the fourth\, fifth\, and sixth generations of the candy-making family. With candy-making roots going back to 1869\, the company's headquarter is in Fairfield\, CA and produces its popular candies in the US and Thailand. The 250\,000 square-foot Thailand facility supplies customers in more than 60 countries outside the US.\n\n	Number of participants: Limited to 14 participants.\n	Time: 2 pm   to be confirmed after registration.\n	Dress: Closed-toed shoes\, no shorts\, PPE will be provided.\n	Covid-19 protocol: As per factory regulations\, proof of double vaccination is required together with evidence of a negative ATK test taken within the previous 24 hours.\n\nAfter the factory tour\, there will be a Governors' Table in Pattaya at Holiday Inn Pattaya to which all participants are invited to attend. Please click here to register for the Governors' Table.\n\n\n\nPlease note that transportation to and from the venue will not be provided by AMCHAM. Participants will meet onsite at the Jelly Belly factory. Directions will be provided after registration.\n\n\n\nPlease note that due to limited capacity\, we are able to accept only one representative per company.\n\n\n\nPermission to take part in the factory tour is determined by the AMCHAM member factory. Members who may not be able to enter include: competitors\, non-competing but industry specific businesses\, and others.
X-ALT-DESC;FMTTYPE=text/html:We are pleased to kick off the first meeting of the newly established Manufacturing Committee with a factory visit to Jelly Belly Candy Company (Thailand) Ltd.\, on the WHA Eastern Seaboard Industrial Estate in Rayong.<br />\n<br />\nJelly Belly Candy Company is family-owned and operated by the fourth\, fifth\, and sixth generations of the candy-making family. With candy-making roots going back to 1869\, the company&rsquo\;s headquarter is in Fairfield\, CA and produces its popular candies in the US and Thailand. The 250\,000 square-foot Thailand facility supplies customers in more than 60 countries outside the US.\n<ul>\n	<li><strong>Number of participants:</strong> Limited to&nbsp\;14 participants.</li>\n	<li><strong>Time:</strong> 2 pm &ndash\; to be confirmed after registration.</li>\n	<li><strong>Dress:</strong> Closed-toed shoes\, no shorts\, PPE will be provided.</li>\n	<li><strong>Covid-19 protocol:</strong> As per factory regulations\, proof of double vaccination is required together with evidence of a negative ATK test taken within the previous 24&nbsp\;hours.</li>\n</ul>\nAfter the factory tour\, there will be a Governors&#39\; Table in Pattaya at Holiday Inn Pattaya to which all participants are invited to attend. Please click <a href="https://accthailand.chambermaster.com/eventregistration/register/2171">here</a> to register for the Governors&#39\; Table.<br />\n<br />\nPlease note that transportation to and from the venue&nbsp\;<strong><u>will not</u></strong> be<strong>&nbsp\;</strong>provided by AMCHAM.&nbsp\;Participants will meet onsite at the Jelly Belly factory. Directions will be provided after registration.<br />\n<br />\n<strong>Please note that due to limited capacity\, we are able to accept only one representative per company.</strong><br />\n<br />\nPermission to take part in the factory tour is determined&nbsp\;by the AMCHAM member factory. Members who may not be able to enter include: competitors\, non-competing but industry specific businesses\, and others.
LOCATION:Jelly Belly Candy Company (Thailand) Ltd. Please click here for google map
UID:e.3314.2169
SEQUENCE:3
DTSTAMP:20260420T215721Z
URL:http://www.connect.amchamthailand.com/events/details/manufacturing-committee-jelly-belly-factory-tour-2169
END:VEVENT

END:VCALENDAR
