BEGIN:VCALENDAR
VERSION:2.0
PRODID:-//ChamberMaster//Event Calendar 2.0//EN
METHOD:PUBLISH
X-PUBLISHED-TTL:P3D
REFRESH-INTERVAL:P3D
CALSCALE:GREGORIAN
BEGIN:VEVENT
DTSTART:20230818T020000Z
DTEND:20230818T030000Z
X-MICROSOFT-CDO-ALLDAYEVENT:FALSE
SUMMARY:Manufacturing Committee: Leveraging Thai Leadership Values to Build Enlightened Leaders and Teams
DESCRIPTION:AMCHAM's Manufacturing Committee is pleased to host Dr. Larry Persons\, author of the book "The Way Thais Lead\," who will speak on his research on Thai leadership values and the multiple dimensions of "face" which plays a key role in the workplace. He will unpack his research findings and offer thoughts on how to bring transformational leadership to the Thai workplace.\n\n \n\nDr. Larry's research and insights in cross-cultural management in the the Thai context will be of great value to leaders of all nationalities.\n\n\n\nAbout the Speaker\n\nDr. Larry S. Persons: Larry S. Persons (PhD\, Intercultural Studies) is a leadership development expert specializing in multi-cultural contexts. He is CEO of CQ Leadership Consulting\, a firm offering cross-cultural leadership training and consulting\, executive development\, executive coaching\, and leadership assessments. Larry is the author of The Way Thais Lead: Face as Social Capital (Silkworm Books\, 2016). Born and raised in Thailand where he has lived for over 30 years\, Larry has exceptional command of the Thai language and an insider's understanding of Thai culture. He teaches "Culturally Intelligent Leadership" to Executive MBA students at Sasin School of Management\, Chulalongkorn University\, Bangkok\, Thailand.
X-ALT-DESC;FMTTYPE=text/html:<div>AMCHAM&rsquo\;s Manufacturing Committee is pleased to host&nbsp\;Dr. Larry Persons\, author of the book &ldquo\;The Way Thais Lead\,&rdquo\; who will speak on his research on Thai leadership values and the multiple dimensions of &quot\;face&quot\; which plays a&nbsp\;key role in the workplace.&nbsp\;He will unpack his&nbsp\;research findings and offer thoughts on how to bring transformational leadership to the Thai workplace.<br />\n&nbsp\;<br />\nDr. Larry&rsquo\;s research and insights in cross-cultural management in the the Thai context will be of great value to leaders of all nationalities.<br />\n<br />\n<strong>About the Speaker</strong><br />\n<a href="https://www.linkedin.com/in/larryspersons/">Dr. Larry S. Persons</a>:&nbsp\;Larry S. Persons (PhD\, Intercultural Studies) is a leadership development expert specializing in multi-cultural contexts. He is CEO of CQ Leadership Consulting\, a firm offering cross-cultural leadership training and consulting\, executive development\, executive coaching\, and leadership assessments. Larry is the author of The Way Thais Lead: Face as Social Capital (Silkworm Books\, 2016). Born and raised in Thailand where he has lived for over 30 years\, Larry has exceptional command of the Thai language and an insider&rsquo\;s understanding of Thai culture. He teaches &ldquo\;Culturally Intelligent Leadership&rdquo\; to Executive MBA students at Sasin School of Management\, Chulalongkorn University\, Bangkok\, Thailand.</div>\n
LOCATION:Online Webinar
UID:e.3314.2410
SEQUENCE:3
DTSTAMP:20260419T202111Z
URL:http://www.connect.amchamthailand.com/events/details/manufacturing-committee-leveraging-thai-leadership-values-to-build-enlightened-leaders-and-teams-2410
END:VEVENT

END:VCALENDAR
