BEGIN:VCALENDAR
VERSION:2.0
PRODID:-//ChamberMaster//Event Calendar 2.0//EN
METHOD:PUBLISH
X-PUBLISHED-TTL:P3D
REFRESH-INTERVAL:P3D
CALSCALE:GREGORIAN
BEGIN:VEVENT
DTSTART:20221215T020000Z
DTEND:20221215T030000Z
X-MICROSOFT-CDO-ALLDAYEVENT:FALSE
SUMMARY:Manufacturing Committee: Operational Resilience in Manufacturing
DESCRIPTION:Manufacturers and supply chains are facing increased challenges to ensuring a resilient\, sustainable business in the wake of Covid-19. Resilience means different things to different organizations\, and is not an absolute concept. Some business will be more resilient than others\, enabling them to withstand or capitalize on market disruptions. This events looks at how you can translate resilience to your organization.  \n\n \n\nSupply chains and business risk landscapes are subject to shifting geopolitical tensions and market risks. Thailand is no exception to this\, with both risk and opportunity present in a shifting business environment. Covid-19 taught businesses many lessons on how to be flexible\, adaptive\, and able to bounce back from uncertainty and shocks\, lessons which hold true as we emerge from the pandemic and face new challenges.\n\n \n\nThis presentation will examine the geopolitical factors that are impacting global supply chains and what manufacturing businesses and other sectors have learned during Covid-19 to ensure operations\, people\, and reputation can be maintained during uncertainty. This includes setting organizational direction\, risk awareness\, governance\, and developing an adaptive capacity to ensure a secure\, resilient\, and sustainable business.\n\n\n\nAbout the Speaker\n\nMatthew Garda: Country Director\, Hill & Associates Thailand. Matt joined H&A in February 2022\, after leaving Control Risks as the Associate Director of the Australian Crisis and Security Consulting practice. Matt has helped clients prepare for and respond to crises in the manufacturing and FMCG sectors and spent the last two years during Covid-19 helping businesses navigate immediate issues\, while developing strategic roadmaps to enhance organizational resilience which are still in place today. Matt previously worked in the Finance and Banking sector as a security specialist and has been working with clients throughout Thailand and Southeast Asia for the last five years as a security and crisis management consultant.
X-ALT-DESC;FMTTYPE=text/html:<div>Manufacturers and supply chains are facing increased challenges to ensuring a resilient\, sustainable business in the wake of Covid-19. Resilience means different things to different organizations\, and is not an absolute concept. Some business will be more resilient than others\, enabling them to withstand or capitalize&nbsp\;on market disruptions. This events looks at how you can translate resilience to your organization.&nbsp\;&nbsp\;<br>\n&nbsp\;<br>\nSupply chains and business risk landscapes are subject to shifting geopolitical tensions and market risks. Thailand is no exception to this\, with both risk and opportunity present in a shifting business environment. Covid-19 taught businesses many lessons on how to be flexible\, adaptive\, and able to bounce back from uncertainty and shocks\, lessons which hold true as we emerge from the pandemic and face new challenges.<br>\n&nbsp\;<br>\nThis presentation will examine the geopolitical factors that are impacting global supply chains and what manufacturing businesses and other sectors have learned during Covid-19 to ensure operations\, people\, and reputation can be maintained during uncertainty. This includes setting organizational direction\, risk awareness\, governance\, and developing an adaptive capacity to ensure a secure\, resilient\, and sustainable business.<br>\n<br>\n<strong>About the Speaker</strong><br>\n<a href="https://www.linkedin.com/in/matthew-g-b8493181/">Matthew Garda</a>:&nbsp\;Country Director\, Hill &amp\; Associates Thailand. Matt joined H&amp\;A in February 2022\, after leaving Control Risks as the Associate Director of the Australian Crisis and Security Consulting practice. Matt has helped clients prepare for and respond to crises in the manufacturing and FMCG sectors and spent the last two years during Covid-19 helping businesses navigate immediate issues\, while developing strategic roadmaps to enhance organizational resilience which are still in place today. Matt previously worked in the Finance and Banking sector as a security specialist and has been working with clients throughout Thailand and Southeast Asia for the last five years as a security and crisis management consultant.<br>\n&nbsp\;</div>\n
LOCATION:Online Webinar
UID:e.3314.2382
SEQUENCE:3
DTSTAMP:20260420T123826Z
URL:http://www.connect.amchamthailand.com/events/details/manufacturing-committee-operational-resilience-in-manufacturing-2382
END:VEVENT

END:VCALENDAR
