BEGIN:VCALENDAR
VERSION:2.0
PRODID:-//ChamberMaster//Event Calendar 2.0//EN
METHOD:PUBLISH
X-PUBLISHED-TTL:P3D
REFRESH-INTERVAL:P3D
CALSCALE:GREGORIAN
BEGIN:VEVENT
DTSTART:20230217T020000Z
DTEND:20230217T030000Z
X-MICROSOFT-CDO-ALLDAYEVENT:FALSE
SUMMARY:Manufacturing Committee: Solar Rooftop Options for Manufacturing and Warehousing
DESCRIPTION:Electricity costs continue to rise in Thailand and globally. Manufacturers are also under increased pressure to improve the sustainability and efficiency of their activities.\n\n \n\nJoin us for an interesting and factual discussion on current options\, benefits\, and challenges for installing rooftop solar power on Thailand factories and warehouses.\n\n\n\nAbout the Speaker:\n\nDr. Twarath Sutabutr is the President of the Office of Knowledge Management and Development (OKMD)\, a public organization under the Thailand Prime Minister's Office. He served the Thailand Ministry of Energy for 23 years\, most recently as Chief Inspector-General and previously as Director-General of the Energy Policy and Planning Office. He holds an Sc.D. in Civil and Environment Engineering from the Massachusetts Institute of Technology (MIT)\, and also studied at the Asian Institute of Technology and Chulalongkorn University.
X-ALT-DESC;FMTTYPE=text/html:<div>Electricity costs continue to rise in Thailand and globally. Manufacturers are also under increased pressure to improve the sustainability and efficiency of their activities.<br />\n&nbsp\;<br />\nJoin us for an interesting and factual discussion on current options\, benefits\, and challenges for installing rooftop solar power on Thailand factories and warehouses.<br />\n<br />\n<strong>About the Speaker:</strong><br />\n<a href="https://www.linkedin.com/in/twarath-sutabutr-91340328/?originalSubdomain=th">Dr. Twarath Sutabutr</a> is the President of the Office of Knowledge Management and Development (OKMD)\, a public organization under the Thailand Prime Minister&#39\;s Office. He served the Thailand Ministry of Energy for 23 years\, most recently as Chief Inspector-General and previously as Director-General of the Energy Policy and Planning Office. He holds an Sc.D. in Civil and Environment Engineering from the Massachusetts Institute of Technology (MIT)\, and also studied at the Asian Institute of Technology and Chulalongkorn University.</div>\n
LOCATION:Online Webinar
UID:e.3314.2400
SEQUENCE:3
DTSTAMP:20260420T071428Z
URL:http://www.connect.amchamthailand.com/events/details/manufacturing-committee-solar-rooftop-options-for-manufacturing-and-warehousing-2400
END:VEVENT

END:VCALENDAR
