BEGIN:VCALENDAR
VERSION:2.0
PRODID:-//ChamberMaster//Event Calendar 2.0//EN
METHOD:PUBLISH
X-PUBLISHED-TTL:P3D
REFRESH-INTERVAL:P3D
CALSCALE:GREGORIAN
BEGIN:VEVENT
DTSTART:20220506T033000Z
DTEND:20220506T050000Z
X-MICROSOFT-CDO-ALLDAYEVENT:FALSE
SUMMARY:Manufacturing Committee: State of Manufacturing in Thailand
DESCRIPTION:Manufacturing is a vital element of the Thai economy\, and has been significantly responsible for the growth and development of the Kingdom of Thailand over the past 30 years. Thai manufacturers have developed safe and environmentally sound factories producing products that have greatly improved the lives of millions of Thai citizens and residents\, and have also become a valued and integral source of products and components for the global supply chain. Thai manufacturers have supported the skills and career development of the Thai workforce\, from laborers and technicians to executives and directors\, empowering employees and their families to enjoy productive and comfortable lives.\n\n\n\nThe Covid-19 pandemic has had far reaching impacts on all Thai and global businesses and economic activities. What is the current state of the manufacturing industry in Thailand? Will Thailand continue to be a preferred location for investments in existing and new manufacturing facilities? Are Thai manufacturers and employees ready for the Smart Manufacturing revolution? What are the economic factors relevant to Thai manufacturers?\n\n\n\nJoin us for an interesting and thoughtful review of the State of Manufacturing in Thailand.\n\n\n\nSpeakers:\n\nDavid Nardone: Vice Chairman of the Board of Directors\, Executive Director at WHA Corporation Public Company Limited. He is a Group Executive Industrial and International\, Executive Director at WHA Industrial Development Public Company Limited (Previously Hemaraj). Before joining Hemaraj in 1993\, David held senior financial and manufacturing management positions in the computer industry residing in the US\, Thailand\, and Hong Kong. David completed a BSBA in Finance and Entrepreneurship and a MBA at McKim D'Amore School of Business of Northeastern University in Boston\, MA\, USA. David contributes to economic forums and articles on automotive\, industrial\, investment and competitiveness. \n\n\n\nSampan Silapanad: Vice President Hard Disk Drive Operations\, Western Digital Storage Technology (Thailand). He has previously held executive positions with National Semiconductor\, Seagate Technology\, and Hitachi Global Storage Technology. He is a president of the Electronics and Computer Employers' Association (ECEA) Thailand and a Co-Chairman of the World's Association of Cooperative Education (WACE).\n\n\n\nDennis Meseroll: Executive Director and Co-Founder\, Tractus Asia Ltd. He is a founding partner and Executive Director of Tractus Asia Ltd. Tractus is an American-managed\, Asia-based foreign investment (FDI) consultancy providing assistance to both private companies and public sector organizations. Dennis and the firm have advised on more than 8 billion US dollars in trade and investment transactions across a wide variety of sectors.\n\n\n\nModerator:\n\nFrank Timmons: Managing Director\, Apichet Technology. He has more than 26 years of experience leading and consulting to Thailand-based manufacturers and has an eMBA from the Sasin Graduate Institute. He is proud to have been granted a Thai nationality.
X-ALT-DESC;FMTTYPE=text/html:Manufacturing is a vital element of the Thai economy\, and has been significantly responsible for the growth and development of the Kingdom of Thailand over the past 30 years. Thai manufacturers have developed safe and environmentally sound factories producing products that have greatly improved the lives of millions of Thai citizens and residents\, and have also become a valued and integral source of products and components for the global supply chain. Thai manufacturers have supported the skills and career development of the Thai workforce\, from laborers and technicians to executives and directors\, empowering employees and their families to enjoy productive and comfortable lives.<br />\n<br />\nThe Covid-19 pandemic has had far reaching impacts on all Thai and global businesses and economic activities. What is the current state of the manufacturing industry in Thailand? Will Thailand continue to be a preferred location for investments in existing and new manufacturing facilities? Are Thai manufacturers and employees ready for the Smart Manufacturing revolution? What are the economic factors relevant to Thai manufacturers?<br />\n<br />\nJoin us for an interesting and thoughtful review of the State of Manufacturing in Thailand.<br />\n<br />\n<strong>Speakers:</strong><br />\n<a href="https://th.linkedin.com/in/david-nardone-2793504">David Nardone</a>: Vice Chairman of the Board of Directors\, Executive Director at WHA Corporation Public Company Limited. He is a Group Executive Industrial and International\, Executive Director at WHA Industrial Development Public Company Limited (Previously Hemaraj). Before joining Hemaraj in 1993\,&nbsp\;David held senior financial and manufacturing management positions in the computer industry residing in the US\, Thailand\, and Hong Kong. David completed a BSBA in Finance and Entrepreneurship and a MBA at McKim D&#39\;Amore School of Business of Northeastern University in Boston\, MA\, USA. David contributes to economic forums and articles on automotive\, industrial\, investment and competitiveness.&nbsp\;<br />\n<br />\n<a href="https://th.linkedin.com/in/sampan-silapanad-40379016">Sampan Silapanad</a>:&nbsp\;Vice President Hard Disk Drive Operations\, Western Digital Storage Technology (Thailand). He has previously held executive positions with National Semiconductor\, Seagate Technology\, and Hitachi Global Storage Technology. He is a president of the Electronics and Computer Employers&rsquo\; Association (ECEA) Thailand and a Co-Chairman of the World&rsquo\;s Association of Cooperative Education (WACE).<br />\n<br />\n<a href="https://th.linkedin.com/in/dennis-meseroll">Dennis Meseroll</a>: Executive Director and Co-Founder\, Tractus Asia Ltd. He&nbsp\;is a founding partner and Executive Director of Tractus Asia Ltd. Tractus is an American-managed\, Asia-based foreign investment (FDI) consultancy&nbsp\;providing assistance to&nbsp\;both&nbsp\;private companies and public sector organizations. Dennis and the firm have advised on&nbsp\;more than 8&nbsp\;billion US dollars in trade and investment transactions across a wide variety of sectors.<br />\n<br />\n<strong>Moderator:</strong><br />\n<a href="https://th.linkedin.com/in/frank-timmons-3629125">Frank Timmons</a>: Managing Director\, Apichet Technology. He has more than 26 years of experience leading and consulting to Thailand-based manufacturers and has an eMBA from the Sasin Graduate Institute. He is proud to have been granted a Thai nationality.
LOCATION:Video Conference
UID:e.3314.2193
SEQUENCE:3
DTSTAMP:20260420T235831Z
URL:http://www.connect.amchamthailand.com/events/details/manufacturing-committee-state-of-manufacturing-in-thailand-2193
END:VEVENT

END:VCALENDAR
