BEGIN:VCALENDAR
VERSION:2.0
PRODID:-//ChamberMaster//Event Calendar 2.0//EN
METHOD:PUBLISH
X-PUBLISHED-TTL:P3D
REFRESH-INTERVAL:P3D
CALSCALE:GREGORIAN
BEGIN:VEVENT
DTSTART:20220722T020000Z
DTEND:20220722T030000Z
X-MICROSOFT-CDO-ALLDAYEVENT:FALSE
SUMMARY:Manufacturing Committee: Transforming Manufacturing with Software Robots - Industry 4.0 and Intelligent Supply Chains
DESCRIPTION:Manufacturers are very familiar with the advantages of factory floor robotics and automation. Thai manufacturers have steadily implemented and embraced automation and robotics to increase efficiency and quality and reduce costs. \n\n\n\nCan the benefits of automation and robotics be realized more broadly   across the back office\, customer service\, sales\, IT\, supply chain\, and R&D?\n\n\n\nMany leaders confuse digitization with automation. Microsoft Office\, SAP\, Salesforce\, and Oracle are examples of digital solutions\, but these otherwise excellent tools primarily digitize and streamline tasks previously executed on paper. Companies have realized efficiency and quality gains utilizing digital tools. However\, significant efficiency and quality gains can be further realized by incorporating software robotics and artificial intelligence into the existing corporate digital environment.\n\n\n\nJoin us for an interesting and thoughtful review of Software Robot applications and opportunities.\n\n\n\nOur Speaker:\n\nAndrew McBean: Director\, UiPath. Andrew McBean joined UiPath in April 2020. His previous roles include SVP at dtac where he was also Managing Director of dtac's PaysBuy Company and Managing Director of dtac's Broadband Company\, and nearly ten years at Microsoft including as General Manager in Thailand.
X-ALT-DESC;FMTTYPE=text/html:Manufacturers are very familiar with the advantages of factory floor robotics and automation. Thai manufacturers have steadily implemented and embraced automation and robotics to increase efficiency and quality and reduce costs.&nbsp\;<br />\n<br />\nCan the benefits of automation and robotics be realized more broadly&nbsp\;&mdash\;&nbsp\;across the&nbsp\;back office\,&nbsp\;customer service\, sales\, IT\, supply chain\, and R&amp\;D?<br />\n<br />\nMany leaders confuse digitization with automation. Microsoft Office\, SAP\, Salesforce\, and Oracle are examples of digital solutions\, but these otherwise excellent tools primarily digitize and streamline tasks previously executed on paper. Companies have realized efficiency and quality gains utilizing digital tools. However\, significant efficiency and quality gains can be&nbsp\;further realized by incorporating software robotics and&nbsp\;artificial intelligence into the existing corporate digital environment.<br />\n<br />\nJoin us for an interesting and thoughtful review of Software Robot applications and opportunities.<br />\n<br />\n<strong>Our Speaker:</strong><br />\n<a href="https://www.linkedin.com/in/andrew-mcbean-6700191b/?originalSubdomain=th">Andrew McBean</a>: Director\, UiPath.&nbsp\;Andrew McBean joined UiPath in April 2020. His previous roles include SVP at dtac where he was&nbsp\;also Managing Director of dtac&rsquo\;s PaysBuy Company and Managing Director of dtac&rsquo\;s Broadband&nbsp\;Company\, and nearly ten years at Microsoft including as General Manager in Thailand.
LOCATION:Webinar
UID:e.3314.2206
SEQUENCE:3
DTSTAMP:20260420T215424Z
URL:http://www.connect.amchamthailand.com/events/details/manufacturing-committee-transforming-manufacturing-with-software-robots-industry-4-0-and-intelligent-supply-chains-2206
END:VEVENT

END:VCALENDAR
