BEGIN:VCALENDAR
VERSION:2.0
PRODID:-//ChamberMaster//Event Calendar 2.0//EN
METHOD:PUBLISH
X-PUBLISHED-TTL:P3D
REFRESH-INTERVAL:P3D
CALSCALE:GREGORIAN
BEGIN:VEVENT
DTSTART:20220819T030000Z
DTEND:20220819T060000Z
X-MICROSOFT-CDO-ALLDAYEVENT:FALSE
SUMMARY:Manufacturing Committee: Tyson Foods Factory Tour
DESCRIPTION:We are pleased to invite you for a factory visit to Tyson Poultry Thailand in Ongkarak. \n\n \n\nTyson Foods is one of the world's largest food companies and a recognized global leader in protein with operations across multiple regions\, serving more than 150 countries globally. Across Asia Pacific\, Tyson Foods has operations and sales offices across the region which includes Thailand\, Malaysia\, Australia\, Singapore & Japan\, Tyson Foods APAC produces innovative products across different protein types covering poultry\, beef\, fish\, plant based as well as fresh produce. Tyson Poultry Thailand is a fully vertically integrated poultry processor\, operating feedmill\, hatchery\, farms and processing facilities. This tour would be to the company's further processing site which produces fully-cooked poultry products that serves exports and Thailand domestic markets.\n\n \nTime: 10 AM to 1PM\, a lunch featuring Tyson products will be provided. \n\nDress: Closed-toed shoes\, no shorts\, PPE will be provided.\n\nCovid-19 protocol: As per factory regulations\, proof of double vaccination is required together with evidence of a negative ATK test taken within the previous 24 hours.\n\nProgram Overview : Introduction to Tyson Foods\, Overview of Tyson Poultry Thailand Operations\, Safety briefing\, Facilities Tour\, Product Cutting\n  \n\nPlease note that transportation to and from the venue will not be provided by AMCHAM. Participants will meet onsite at the Tyson Poultry factory. Directions will be provided after registration.\n\n \n\nPlease note that due to limited capacity\, we are able to accept only one representative per company.\n\n \n\nPermission to take part in the factory tour is determined by the AMCHAM member factory. Members who may not be able to enter include: competitors\, non-competing but industry specific businesses\, and others.
X-ALT-DESC;FMTTYPE=text/html:<span style="font-family:arial\,sans-serif\;"><span style="font-size:9.0pt\;">We are pleased to invite you for a factory visit to Tyson Poultry Thailand in Ongkarak.&nbsp\;</span></span><br />\n&nbsp\;<br />\n<span style="font-family:arial\,sans-serif\;"><span style="font-size:9.0pt\;">Tyson Foods is one of the world&#39\;s largest food companies and a recognized global leader in protein with operations across multiple regions\, serving more than 150 countries globally. Across Asia Pacific\, Tyson Foods has operations and sales offices across the region which includes Thailand\, Malaysia\, Australia\, Singapore &amp\; Japan\, Tyson Foods APAC produces innovative products across different protein types covering poultry\, beef\, fish\, plant based as well as fresh produce. Tyson Poultry Thailand is a fully vertically integrated poultry processor\, operating feedmill\, hatchery\, farms and processing facilities. This tour would be to the company&#39\;s further processing site which produces fully-cooked poultry products that serves exports and Thailand domestic markets.</span></span><br />\n&nbsp\;\n<div style="color:#4472C4\;vertical-align:baseline\;"><span style="color:#000000\;"><strong><span style="border:none windowtext 1.0pt\;padding:0in\;"><span style="font-family:arial\,sans-serif\;"><span style="font-size:9.0pt\;">Time:</span></span></span></strong><span style="font-family:arial\,sans-serif\;"><span style="font-size:9.0pt\;">&nbsp\;10 AM to 1PM\, a lunch featuring Tyson products will be provided.&nbsp\;</span></span></span></div>\n\n<div style="color:#4472C4\;vertical-align:baseline\;outline:0px\;"><span style="color:#000000\;"><strong><span style="border:none windowtext 1.0pt\;padding:0in\;"><span style="font-family:arial\,sans-serif\;"><span style="font-size:9.0pt\;">Dress:</span></span></span></strong><span style="font-family:arial\,sans-serif\;"><span style="font-size:9.0pt\;">&nbsp\;Closed-toed shoes\, no shorts\, PPE will be provided.</span></span></span></div>\n\n<div style="color:#4472C4\;vertical-align:baseline\;outline:0px\;"><span style="color:#000000\;"><strong><span style="border:none windowtext 1.0pt\;padding:0in\;"><span style="font-family:arial\,sans-serif\;"><span style="font-size:9.0pt\;">Covid-19 protocol:</span></span></span></strong><span style="font-family:arial\,sans-serif\;"><span style="font-size:9.0pt\;">&nbsp\;As per factory regulations\, proof of double vaccination is required together with evidence of a negative ATK test taken within the previous 24&nbsp\;hours.</span></span></span></div>\n\n<div style="color:#4472C4\;vertical-align:baseline\;"><span style="color:#000000\;"><strong><span style="border:none windowtext 1.0pt\;padding:0in\;"><span style="font-family:arial\,sans-serif\;"><span style="font-size:9.0pt\;">Program Overview :</span></span></span></strong><span style="font-family:arial\,sans-serif\;"><span style="font-size:9.0pt\;">&nbsp\;Introduction to Tyson Foods\, Overview of Tyson Poultry Thailand Operations\, Safety briefing\, Facilities Tour\, Product Cutting</span></span></span></div>\n<span style="color:#000000\;"> &nbsp\;</span><br />\n<span style="font-family:arial\,sans-serif\;"><span style="font-size:9.0pt\;">Please note that transportation to and from the venue&nbsp\;<strong><u><span style="border:1pt none windowtext\;padding:0in\;">will not</span></u></strong>&nbsp\;be&nbsp\;provided by AMCHAM.&nbsp\;Participants will meet onsite at the Tyson Poultry factory. Directions will be provided after registration.</span></span><br />\n&nbsp\;<br />\n<strong><span style="border:none windowtext 1.0pt\;padding:0in\;"><span style="font-family:arial\,sans-serif\;"><span style="font-size:9.0pt\;">Please note that due to limited capacity\, we are able to accept only one representative per company.</span></span></span></strong><br />\n&nbsp\;<br />\n<span style="font-family:arial\,sans-serif\;"><span style="font-size:9.0pt\;">Permission to take part in the factory tour is determined&nbsp\;by the AMCHAM member factory. Members who may not be able to enter include: competitors\, non-competing but industry specific businesses\, and others.</span></span>
LOCATION:Tyson Poultry Thailand Please click here for google map
UID:e.3314.2260
SEQUENCE:3
DTSTAMP:20260420T180722Z
URL:http://www.connect.amchamthailand.com/events/details/manufacturing-committee-tyson-foods-factory-tour-2260
END:VEVENT

END:VCALENDAR
