BEGIN:VCALENDAR
VERSION:2.0
PRODID:-//ChamberMaster//Event Calendar 2.0//EN
METHOD:PUBLISH
X-PUBLISHED-TTL:P3D
REFRESH-INTERVAL:P3D
CALSCALE:GREGORIAN
BEGIN:VEVENT
DTSTART:20230223T030000Z
DTEND:20230223T043000Z
X-MICROSOFT-CDO-ALLDAYEVENT:FALSE
SUMMARY:Marketing & Communications Committee: B2B Marketing in 2023
DESCRIPTION:Explore the latest trends in B2B marketing for 2023 with an expert panel of speakers.\n\n \n\nThe B2B space is a notoriously difficult sector when it comes to marketing. Most agencies focus on the more lucrative B2C sector and the customer journey is often non-linear with major purchases being made every one to two years.\n\n \n\nSo how can a B2B business stand out in 2023? In this event\, speakers will examine the data on how B2B customers make purchasing decisions. Speakers will look at case studies for how executive branding is a major driver of B2B success online and will explore the best practices of Southeast Asia's largest independent law firm.\n\n \n\nAbout the Speakers:\n\n \n\nChris Cracknell\, the Chairman of Grant Thornton Thailand and Chair of the British Chamber of Commerce. Chris was also Global CEO of the OCS Group for 19 years and serves many leading B2B organizations in non-executive roles. During his long and successful career\, Chris has seen many changes in the B2B marketing space. Today\, he's one of Thailand's leading B2B experts on LinkedIn with 30\,000 connections on the platform. Chris will share his approach to successfully engaging with a modern B2B audience.\n\n \n\nZac Robinson\, the Director of Business Development\, Tilleke & Gibbins. His duties are focusing on business strategy and sustainable growth across Southeast Asia. As a qualified lawyer working in the marketing space\, Zac has a 360-degree understanding of the needs of both fee earners and clients\, and will share best practice on how to engage with a B2B audience at every touch point.\n\n \n\nJustin St-Denis\, the Director of Digital Storytelling\, Lexicon. Lexicon is a Bangkok-headquartered agency focusing on B2B marketing. Justin will run through the data on B2B marketing trends and give insights into the best platforms and content marketing approaches for 2023.
X-ALT-DESC;FMTTYPE=text/html:Explore the latest trends in B2B marketing for 2023 with an expert panel of speakers.<br />\n&nbsp\;<br />\nThe B2B space is a notoriously difficult&nbsp\;sector when it comes to marketing. Most agencies focus on the more lucrative B2C sector and the customer journey is often non-linear with major purchases being made every one to two years.<br />\n&nbsp\;<br />\nSo how can a B2B business stand out in 2023? In this event\, speakers will examine the data on how B2B customers make purchasing decisions. Speakers will look at case studies for how executive branding is a major driver of B2B success online and will explore the best practices of Southeast Asia&#39\;s largest&nbsp\;independent law firm.<br />\n&nbsp\;<br />\n<span style="box-sizing: border-box\; font-family: &quot\;open sans&quot\;\, sans-serif\; font-weight: bolder\; color: rgb(68\, 68\, 68)\; font-size: 14px\;">About the Speakers:</span><br />\n&nbsp\;<br />\n<strong><a href="https://www.linkedin.com/in/ccracknell/?originalSubdomain=th">Chris Cracknell</a>\,&nbsp\;</strong>the Chairman of Grant Thornton Thailand and Chair of the British&nbsp\;Chamber of Commerce. Chris was also Global CEO of the OCS Group for 19 years and serves&nbsp\;many leading B2B organizations in non-executive&nbsp\;roles. During his long and successful career\, Chris has seen many changes in the B2B marketing space. Today\, he&#39\;s one of Thailand&#39\;s leading B2B experts on LinkedIn with 30\,000 connections on the platform. Chris will share his approach to successfully engaging with a modern B2B audience.<br />\n&nbsp\;<br />\n<a href="https://www.linkedin.com/in/zac-robinson-bd/"><strong>Zac Robinson</strong></a>\, the Director of Business Development\, Tilleke &amp\; Gibbins. His duties are focusing on business strategy and sustainable growth across Southeast Asia. As a qualified lawyer working in the marketing space\, Zac has a 360-degree understanding of the needs of both fee earners and clients\, and will share best practice on how to engage with a B2B audience at every touch point.<br />\n&nbsp\;<br />\n<strong><a href="https://www.linkedin.com/in/justin-st-denis-09b7011b8/">Justin St-Denis</a></strong>\, the Director of Digital Storytelling\, Lexicon. Lexicon is a Bangkok-headquartered agency focusing on B2B marketing. Justin will run through the data on B2B marketing trends and give insights into the best platforms and content marketing approaches for 2023.&nbsp\;
LOCATION:True Digital Park\, Griffin Building 7th Floor\, Townhall L BTS: Punnawithi (direct exit to True Digital Park) For directions to the Griffin Building\, click here. Please note that not all venues in True Digital Park are wheelchair-accessible. If you have mobility concerns\, please contact our staff so that we can confirm suitability of the venue.
UID:e.3314.2484
SEQUENCE:3
DTSTAMP:20260420T071552Z
URL:http://www.connect.amchamthailand.com/events/details/marketing-communications-committee-b2b-marketing-in-2023-2484
END:VEVENT

END:VCALENDAR
