BEGIN:VCALENDAR
VERSION:2.0
PRODID:-//ChamberMaster//Event Calendar 2.0//EN
METHOD:PUBLISH
X-PUBLISHED-TTL:P3D
REFRESH-INTERVAL:P3D
CALSCALE:GREGORIAN
BEGIN:VEVENT
DTSTART:20221012T023000Z
DTEND:20221012T040000Z
X-MICROSOFT-CDO-ALLDAYEVENT:FALSE
SUMMARY:Marketing & Communications Committee: Creating Content that Matters
DESCRIPTION:With digital disruption and the pandemic\, content has become more important than ever and is now a crucial part of digital marketing and communications. 'Good content' has a very clear competitive advantage. It not only helps you build trust and connect you with your target audience\, but also acts as fuel for your other marketing approaches\, achieving the outcomes you are looking for.\n\n\n\nAs content can be created and driven through different channels: owned\, earned\, and paid media\, as well as by using influencers\, this event is aimed to provide insights and sharing of experience from brand leaders and influencers on creating engaging content. We will also cover how to pitch your content and work effectively with these people who have the power to influence buying decisions.\n\n\n\nAbout the Speakers:\n\n\n\nJitsupa Chin (Sueching)\, Co-Founder and Chief Editor of Vantage. Jitsupa is an editor and online personality for spin9 channel on YouTube and Facebook. She has a strong relationship with media outlets and brands\, especially in the tech industry. She hosts online shows and podcasts covering a variety of topics ranging from technologies to women's interests. She has worked with Google\, Uber\, Amazon\, Intel\, BMW\, Volvo\, MG\, Vivo\, Acer\, Nok Air\, AIS\, DTAC\, Telenor\, Sansiri\, SC Asset\, and more. She started as a journalist for the international news desk covering all sorts of worldwide news ranging from politics to lifestyle. Jitsupa is also a guest lecturer at universities and organizations on a range of digital topics\, such as tech trends\, social media trends and platforms\, tech impacts on future jobs\, cyber securities\, and others.\n\n\n\nNetty Titiya Vichyanond\, Beauty and Lifestyle Influencer of Netty Beauty life. Netty graduated with a master's degree of Pharmacy. She is a beauty influencer with strong focus on skincare and also lecturer in basic dermatology at Faculty of cosmetic technology\, North Chiang Mai University. You can find her on Facebook or Instagram\, where she has over 125k followers.
X-ALT-DESC;FMTTYPE=text/html:<p><span style="font-size:14px\;">With digital disruption and the pandemic\, content has become more important than ever and is now a crucial part of digital marketing and communications. &#39\;Good content&#39\;&nbsp\;has a very clear competitive advantage. It not only helps you build trust and connect&nbsp\;you with your target audience\, but also acts as fuel for your other marketing approaches\, achieving the outcomes you are looking for.<br />\n<br />\nAs content can be created and driven through different channels: owned\, earned\, and paid media\, as well as by using influencers\, this event is aimed to provide insights and sharing of experience from brand leaders and influencers on creating engaging content. We will also cover how to pitch your content and work effectively with these people who have the power to influence buying decisions.<br />\n<br />\n<strong>About the Speakers:</strong><br />\n<br />\n<strong><a href="https://www.linkedin.com/in/jitsupa-chin-sueching-b0259079/">Jitsupa Chin (Sueching)</a></strong>\, Co-Founder and&nbsp\;Chief Editor of Vantage. Jitsupa is an editor and online personality for spin9 channel on YouTube and Facebook. She has a strong relationship with media outlets and brands\, especially in the tech industry. She hosts online shows and podcasts covering a variety of topics ranging from technologies to women&#39\;s interests. She has worked with Google\, Uber\, Amazon\, Intel\, BMW\, Volvo\, MG\, Vivo\, Acer\, Nok Air\, AIS\, DTAC\, Telenor\, Sansiri\, SC Asset\, and more. She started as a journalist for the international news desk covering all sorts of worldwide news ranging from politics to lifestyle. Jitsupa is also&nbsp\;a guest lecturer at universities and organizations on a range of digital topics\, such as tech trends\, social media trends and platforms\, tech impacts on future jobs\, cyber securities\, and others.<br />\n<br />\n<strong><a href="http://www.instagram.com/nettytitiya/">Netty Titiya Vichyanond</a></strong>\, Beauty and Lifestyle Influencer of Netty Beauty life. Netty graduated with a master&#39\;s degree of Pharmacy. She is a beauty influencer with strong focus on skincare and also lecturer in basic dermatology at Faculty of cosmetic technology\, North Chiang Mai University. You can find her on <a href="http://www.facebook.com/nettybeautylife/">Facebook</a> or <a href="http://www.instagram.com/nettytitiya/">Instagram</a>\, where she has over 125k followers.</span></p>\n
LOCATION:True Digital Park\, Griffin Building 7th Floor\, Townhall L BTS: Punnawithi (direct exit to True Digital Park) For directions to the Griffin Building\, click here.
UID:e.3314.2283
SEQUENCE:3
DTSTAMP:20260420T142014Z
URL:http://www.connect.amchamthailand.com/events/details/marketing-communications-committee-creating-content-that-matters-2283
END:VEVENT

END:VCALENDAR
