BEGIN:VCALENDAR
VERSION:2.0
PRODID:-//ChamberMaster//Event Calendar 2.0//EN
METHOD:PUBLISH
X-PUBLISHED-TTL:P3D
REFRESH-INTERVAL:P3D
CALSCALE:GREGORIAN
BEGIN:VEVENT
DTSTART:20211007T030000Z
DTEND:20211007T040000Z
X-MICROSOFT-CDO-ALLDAYEVENT:FALSE
SUMMARY:Meet the Academy (Session 1)
DESCRIPTION:In 2021\, AMCHAM is pleased to welcome the second student cohort of the AMCHAM Academy.\n\n\n\nDesigned to develop the rising leaders of your organization\, the AMCHAM Academy connects high-talent middle management staff with leaders in the business world in small group seminars. Academy participants emerge from the program with strong cross-industry peer networks\, fresh business and leadership insights\, and the creative mindset necessary for your company's success in the modern business world.\n\nThis is first of the two "Meet the Academy" sessions\, where 8 of the 16 total cohorts will be giving a short talk about their career journeys and personal growth\, while also sharing knowledge and up-to-date perspectives on their current industries and functions. This year's cohort is made up of 16 mid-level professionals from different companies in our Exclusive Tiers of membership\, across a diverse range of industries including pharmaceutical\, tech & electronics\, automotive\, oil & gas\, tourism\, and more.\n\n\n\nBoth sessions will be held in-person or virtually depending on social distancing measures and government regulations at the date of the event.\n\n\n\nThis session is closed to AMCHAM Academy's members only.
X-ALT-DESC;FMTTYPE=text/html:<p>In 2021\, AMCHAM is pleased to welcome the second student cohort of the AMCHAM Academy.<br />\n<br />\nDesigned to develop the rising leaders of your organization\, the AMCHAM Academy connects high-talent middle management staff with leaders in the business world in small group seminars. Academy participants emerge from the program with strong cross-industry peer networks\, fresh business and leadership insights\, and the creative mindset necessary for your company&rsquo\;s success in the modern business world.</p>\n\n<p>This is first of the two &ldquo\;Meet the Academy&rdquo\; sessions\, where 8 of the 16 total cohorts will be giving a short talk about their career journeys and personal growth\, while also sharing knowledge and up-to-date perspectives on their current industries and functions. This year&rsquo\;s cohort is made up of 16 mid-level professionals from different companies in our Exclusive Tiers of membership\, across a diverse range of industries including pharmaceutical\, tech &amp\; electronics\, automotive\, oil &amp\; gas\, tourism\, and more.</p>\n\n<p><br />\nBoth sessions will be held in-person or virtually depending on social distancing measures and government regulations at the date of the event.<br />\n<br />\nThis session is closed to AMCHAM Academy&rsquo\;s members only.</p>\n
LOCATION:Video conference
UID:e.3314.1958
SEQUENCE:3
DTSTAMP:20260421T155646Z
URL:http://www.connect.amchamthailand.com/events/details/meet-the-academy-session-1-1958
END:VEVENT

END:VCALENDAR
