BEGIN:VCALENDAR
VERSION:2.0
PRODID:-//ChamberMaster//Event Calendar 2.0//EN
METHOD:PUBLISH
X-PUBLISHED-TTL:P3D
REFRESH-INTERVAL:P3D
CALSCALE:GREGORIAN
BEGIN:VEVENT
DTSTART:20211020T070000Z
DTEND:20211020T083000Z
X-MICROSOFT-CDO-ALLDAYEVENT:FALSE
SUMMARY:Meet the Embassy & Annual General Meeting
DESCRIPTION:AMCHAM and the U.S. Embassy are pleased to invite members to a virtual "Meet the Embassy?.\n\n\n\nThe U.S. Embassy in Bangkok is one of the largest U.S. Embassies in the world\, with departments and sections supporting work throughout the Asia Pacific. Please join us to meet the heads of key departments and sections as they give AMCHAM members a closer look inside the day-to-day work of the U.S. Embassy to promote U.S. relations with Thailand and the region.\n\n\n\nThis online event serves as the Annual General Meeting. Voting for the AMCHAM Board of Governors Elections will conclude at the opening on the meeting\, and the new Board Governors for the 2022-23 Board term will be announced.\n\n\n\nIn order to encourage candid discussion\, this event will not be recorded.\n\n\n\nA video conference link will be sent to all registrants at close of business on October 19.
X-ALT-DESC;FMTTYPE=text/html:<p>AMCHAM and the U.S. Embassy are pleased to invite members to a virtual &quot\;Meet the Embassy?.<br />\n<br />\nThe U.S. Embassy in Bangkok is one of the largest U.S. Embassies in the world\, with departments and sections supporting work throughout the Asia Pacific.&nbsp\;Please join us to meet the heads of key departments and sections as they give AMCHAM members a closer look inside the day-to-day work of the U.S. Embassy to promote U.S. relations with Thailand and the region.<br />\n<br />\nThis online event serves as the Annual General Meeting. Voting for the AMCHAM Board of Governors Elections will conclude at the opening on the meeting\, and the new Board Governors for the 2022-23 Board term will be announced.<br />\n<br />\nIn order to encourage candid discussion\, this event will not be recorded.<br />\n<br />\nA video conference link will be sent to all registrants at close of business on October 19.</p>\n\n<p style="color: rgb(51\, 51\, 51)\; font-family: sans-serif\, Arial\, Verdana\, &quot\;Trebuchet MS&quot\;\; font-size: 13px\; background-color: rgb(255\, 255\, 255)\;">&nbsp\;</p>\n
LOCATION:Webinar
UID:e.3314.1986
SEQUENCE:3
DTSTAMP:20260421T143149Z
URL:http://www.connect.amchamthailand.com/events/details/meet-the-embassy-annual-general-meeting-1986
END:VEVENT

END:VCALENDAR
