BEGIN:VCALENDAR
VERSION:2.0
PRODID:-//ChamberMaster//Event Calendar 2.0//EN
METHOD:PUBLISH
X-PUBLISHED-TTL:P3D
REFRESH-INTERVAL:P3D
CALSCALE:GREGORIAN
BEGIN:VEVENT
DTSTART:20230925T050000Z
DTEND:20230925T070000Z
X-MICROSOFT-CDO-ALLDAYEVENT:FALSE
SUMMARY:Member Luncheon: Meet the Board Candidates
DESCRIPTION:Please join us at our networking Member Luncheon at The Sukhothai Bangkok for the launch of our AMCHAM Board Election season.\n\nNominations for the Board of Governors will formally close and the final slate of candidates will be announced at the opening of the event. Over lunch\, our candidates will have the chance to introduce themselves and their goals for board service during the 2024-2025 term before taking questions from the audience. Elections will open online the following day and close at the October AGM.\n\nThe AMCHAM Board is composed of exceptional leaders from the US\, international\, and Thai business community and we are privileged this year to introduce to you to a slate of equally distinguished candidates. We encourage all interested members to come meet the current and future leaders of our business community and cast your vote accordingly.
X-ALT-DESC;FMTTYPE=text/html:<p><span class="ui-provider fy b c d e f g h i j k l m n o p q r s t u v w x y z ab ac ae af ag ah ai aj ak" dir="ltr">Please join us at our networking Member Luncheon at The Sukhothai Bangkok for the launch of our AMCHAM Board Election season.</span></p>\n\n<p><span class="ui-provider fy b c d e f g h i j k l m n o p q r s t u v w x y z ab ac ae af ag ah ai aj ak" dir="ltr">Nominations for the Board of Governors will formally close and the final slate of candidates will be announced at the opening of the event. Over lunch\, our candidates will have the chance to introduce themselves and their goals for board service during the 2024-2025 term before taking questions from the audience. Elections will open online the following day and close at the October AGM.</span></p>\n\n<p><span class="ui-provider fy b c d e f g h i j k l m n o p q r s t u v w x y z ab ac ae af ag ah ai aj ak" dir="ltr">The AMCHAM Board is composed of exceptional leaders from the US\, international\, and Thai business community and we are privileged this year to introduce to you to a slate of equally distinguished candidates. We encourage all interested members to come meet the current and future leaders of our business community and cast your vote accordingly.</span></p>\n
LOCATION:The Sukhothai Bangkok\, Ballroom
UID:e.3314.2621
SEQUENCE:3
DTSTAMP:20260419T183259Z
URL:http://www.connect.amchamthailand.com/events/details/member-luncheon-meet-the-board-candidates-2621
END:VEVENT

END:VCALENDAR
