BEGIN:VCALENDAR
VERSION:2.0
PRODID:-//ChamberMaster//Event Calendar 2.0//EN
METHOD:PUBLISH
X-PUBLISHED-TTL:P3D
REFRESH-INTERVAL:P3D
CALSCALE:GREGORIAN
BEGIN:VEVENT
DTSTART:20220823T050000Z
DTEND:20220823T070000Z
X-MICROSOFT-CDO-ALLDAYEVENT:FALSE
SUMMARY:Member Luncheon: Thosapone Dansuputra\, Director-General of the Department of Business Development\, Ministry of Commerce
DESCRIPTION:AMCHAM is delighted to welcome Thosapone Dansuputra\, Director-General of the Department of Business Development\, to address the AMCHAM membership.\n\n\n\nOver the past two years\, there have been broad government efforts to enhance the ease of doing business and prepare for post-pandemic recovery. The Department of Business Development has played an especially important role in assisting all types of businesses to operate in the Kingdom and developing their capacity to perform efficiently\, through the digitization of the business registration system\, as well as different types of online services and capacity building programs.\n\nPlease join our Board Governors in welcoming Thosapone Dansuputra\, Director-General of the Department of Business Development\, who will provide an update on the Department's work to improve and digitize the government framework to enhance business competitiveness and the growth of future generations of entrepreneurs.\n\n\n\nOur Speaker:\n\nThosapone Dansuputra\, Director-General of the Department of Business Development\, has held numerous positions in the Ministry of Commerce\, ranging from a Counsellor at the Permanent Mission of Thailand to the World Trade Organization\, the Director-General of the Department of Intellectual Property\, to the Director-General of the Department of Business Development. Additionally\, he had extensive experience in both bilateral and multilateral trade negotiations. Thosapone holds a Bachelor of Laws from Chulalongkorn University and Master of Laws from American University in Washington\, DC.
X-ALT-DESC;FMTTYPE=text/html:<p><span style="background:white\;"><span style="color:black\;">AMCHAM is delighted to welcome Thosapone Dansuputra\,&nbsp\;Director-General of the Department of Business Development\, to address the AMCHAM membership.</span></span><br />\n<br />\nOver the past two years\, there have been broad government efforts<span style="background:white\;"><span style="color:black\;">&nbsp\;to enhance the ease of doing business and prepare for post-pandemic recovery. The Department of Business Development has played an especially important role in assisting all types of businesses to operate in the Kingdom and developing their capacity to perform efficiently\, through the digitization of the business registration system\, as well as different types of online services and capacity building programs.</span></span></p>\n\n<p><span style="background:white\;"><span style="color:black\;">Please join our Board Governors in welcoming&nbsp\;Thosapone Dansuputra\,&nbsp\;Director-General of the Department of Business Development\, who will provide an update on the Department&rsquo\;s work to improve and digitize the government framework&nbsp\;</span></span>to enhance business competitiveness and the growth of future generations of entrepreneurs.<br />\n<br />\nOur Speaker:</p>\n\n<p><span style="background:white\;"><span style="color:black\;">Thosapone Dansuputra\,&nbsp\;Director-General of the Department of Business Development\, has held numerous positions in the Ministry of Commerce\, ranging from a Counsellor at the Permanent Mission of Thailand to the World Trade Organization\, the Director-General of the Department of Intellectual Property\, to the Director-General of the Department of Business Development. Additionally\, he had extensive experience in both bilateral and multilateral trade negotiations.&nbsp\;</span></span><span style="background:white\;"><span style="color:black\;">Thosapone holds a Bachelor of Laws from Chulalongkorn University and Master of Laws from American University in Washington\, DC.</span></span><br />\n<br />\n<br />\n<br />\n&nbsp\;</p>\n
LOCATION:Anantara Siam BTS Rachadamri
UID:e.3314.2249
SEQUENCE:3
DTSTAMP:20260420T180747Z
URL:http://www.connect.amchamthailand.com/events/details/member-luncheon-thosapone-dansuputra-director-general-of-the-department-of-business-development-ministry-of-commerce-2249
END:VEVENT

END:VCALENDAR
