BEGIN:VCALENDAR
VERSION:2.0
PRODID:-//ChamberMaster//Event Calendar 2.0//EN
METHOD:PUBLISH
X-PUBLISHED-TTL:P3D
REFRESH-INTERVAL:P3D
CALSCALE:GREGORIAN
BEGIN:VEVENT
DTSTART:20220224T050000Z
DTEND:20220224T070000Z
X-MICROSOFT-CDO-ALLDAYEVENT:FALSE
SUMMARY:Membership Luncheon: Thai Property Market Update 2022
DESCRIPTION:The Business Economics Committee proudly invites you to join a panel discussion with industry experts to provide in-depth insights into the present market dynamics and future of real estate and property development in Thailand. \n\n\n\nTysen Kamin is Deputy Managing Director of Colliers Thailand leading the Advisory team and teams of brokers across commercial real estate sectors in Thailand. Tysen will be hosting the interactive panel discussion and managing Q&A. \n\n\n\nMark Nosworthy is Chief Executive Officer\, Kaidee Property\, an innovative agency in the residential real estate market that has become a marketing powerhouse. Mark will share the current state of the Thai residential real estate market as well as trends and an outlook for 2022.\n\n\n\nBarnaby Swainson is Head of Investment and Land\, CBRE Thailand\, brings a wealth of experience and knowledge of investment and land transactions in Thailand. Barny will be sharing an overview of recent activity and what we can expect developers to build in the future.\n\n\n\nShun Wong is Senior Vice President - Strategy & Business Development at Central Pattana Public Company Limited (CPN). Shun will be speaking about the Office and Retail sectors. He'll start with the current situation in each sector and then he'll share an outlook.
X-ALT-DESC;FMTTYPE=text/html:<p>The Business Economics Committee proudly invites you to join a panel discussion with industry experts to provide in-depth insights into the present market dynamics and future of real estate and property development in Thailand.&nbsp\;<br />\n<br />\n<a href="https://www.colliers.com/en-th/experts/tysen-kamin">Tysen Kamin</a> is Deputy Managing Director of Colliers Thailand leading the Advisory team and teams of brokers across commercial real estate sectors in Thailand. Tysen will be hosting the interactive panel discussion and managing Q&amp\;A.&nbsp\;<br />\n<br />\n<a href="https://www.empg.com/about/#content_4">Mark Nosworthy</a> is Chief Executive Officer\,&nbsp\;Kaidee Property\, an innovative agency in the residential real estate market that has become a marketing powerhouse. Mark will share the current state of the Thai residential real estate market as well as trends and an outlook for 2022.<br />\n<br />\n<a href="https://th.linkedin.com/in/barnyswainson">Barnaby Swainson</a>&nbsp\;is Head of Investment and Land\, CBRE Thailand\, brings a wealth of experience and knowledge of investment and land transactions in Thailand. Barny will be sharing an overview of recent activity and what we can expect developers to build in the future.<br />\n<br />\n<a href="https://th.linkedin.com/in/shun-wong-9615261b">Shun Wong</a>&nbsp\;is Senior Vice President - Strategy &amp\; Business Development at&nbsp\;Central&nbsp\;Pattana Public&nbsp\;Company&nbsp\;Limited (CPN).&nbsp\;Shun will be speaking about the Office and Retail sectors. He&rsquo\;ll start with the current situation in each sector and then he&rsquo\;ll share an outlook.</p>\n
LOCATION:Westin Grande Sukhumvit\, Ballroom BTS: Asoke / MRT: Sukhumvit
UID:e.3314.2117
SEQUENCE:3
DTSTAMP:20260421T051730Z
URL:http://www.connect.amchamthailand.com/events/details/membership-luncheon-thai-property-market-update-2022-2117
END:VEVENT

END:VCALENDAR
