BEGIN:VCALENDAR
VERSION:2.0
PRODID:-//ChamberMaster//Event Calendar 2.0//EN
METHOD:PUBLISH
X-PUBLISHED-TTL:P3D
REFRESH-INTERVAL:P3D
CALSCALE:GREGORIAN
BEGIN:VEVENT
DTSTART:20210716T030000Z
DTEND:20210716T040000Z
X-MICROSOFT-CDO-ALLDAYEVENT:FALSE
SUMMARY:Membership Meeting with H.E. Chaiwut Thanakamanusorn\, Minister of Digital Economy and Society
DESCRIPTION:AMCHAM is honored to welcome H.E. Chaiwut Thanakamanusorn\, Minister of Digital Economy and Society\, to our virtual membership meeting this month to discuss the Ministry's initiatives in light of the far-reaching consequences of Covid-19 on the digital economy in Thailand. In his address to AMCHAM members\, H.E. Chaiwut will talk about the range of measures the government is undertaking\, the promotion and support for business sector to use digital technology and innovation in order to overcome the situation\, and prospects for the rest of 2021 and beyond. Following his presentation\, members will have the opportunity to participate in a question-and-answer session. \n\n \n\nH.E. Chaiwut Thanakamanusorn is Minister of Digital Economy and Society since March 2021. He formerly served as an executive at Gulf Energy Development Plc. He is a party-list MP of the Palang Pracharath Party. \n\n \n\nH.E. Chaiwut Thanakamanusorn graduated from University of Southern California\, United States with a Master of the Engineering and Chulalongkorn University with a bachelor's degree in engineering. \n\n \n\nIn serving as the Minister of Digital Economy and Society\, his priorities are intensifying the Anti-Fake News Centre's mission to tackle illicit online content including fake news\; false or misleading information presented as news mainly on social platforms. He also focuses on promoting e-services\, 5G and digital infrastructure\, Trusted Digital Ecosystem and National Digital ID system. \n\n\n\nThis event has been sponsored by Seagate.
X-ALT-DESC;FMTTYPE=text/html:AMCHAM is honored to welcome H.E.&nbsp\;Chaiwut&nbsp\;Thanakamanusorn\,&nbsp\;Minister of Digital Economy and Society\,&nbsp\;to our virtual membership meeting this month to&nbsp\;discuss the Ministry&#39\;s initiatives&nbsp\;in light of&nbsp\;the far-reaching consequences of Covid-19 on the digital&nbsp\;economy&nbsp\;in Thailand. In his address to AMCHAM members\,&nbsp\;H.E.&nbsp\;Chaiwut&nbsp\;will talk about the range of measures the government is undertaking\, the&nbsp\;promotion&nbsp\;and support&nbsp\;for&nbsp\;business sector to use digital technology and innovation&nbsp\;in order to&nbsp\;overcome the situation\,&nbsp\;and prospects for the rest of 2021 and beyond. Following his presentation\, members will have the opportunity to participate in&nbsp\;a&nbsp\;question-and-answer&nbsp\;session.&nbsp\;<br />\n&nbsp\;<br />\nH.E.&nbsp\;Chaiwut&nbsp\;Thanakamanusorn&nbsp\;is&nbsp\;Minister of Digital Economy and Society&nbsp\;since&nbsp\;March&nbsp\;2021. He formerly served&nbsp\;as an&nbsp\;executive at Gulf Energy Development Plc. He is a&nbsp\;party-list&nbsp\;MP&nbsp\;of the&nbsp\;Palang&nbsp\;Pracharath&nbsp\;Party.&nbsp\;<br />\n&nbsp\;<br />\nH.E.&nbsp\;Chaiwut&nbsp\;Thanakamanusorn&nbsp\;graduated from&nbsp\;University of Southern California\, United States with&nbsp\;a&nbsp\;Master of the Engineering&nbsp\;and&nbsp\;Chulalongkorn University&nbsp\;with&nbsp\;a bachelor&#39\;s degree in engineering.&nbsp\;<br />\n&nbsp\;<br />\nIn serving as the&nbsp\;Minister of Digital Economy and Society\,&nbsp\;his priorities are intensifying the Anti-Fake News Centre&#39\;s mission&nbsp\;to tackle&nbsp\;illicit online content including fake news\; false or misleading information presented as news mainly on social platforms. He also focuses on&nbsp\;promoting e-services\, 5G and digital infrastructure\,&nbsp\;Trusted&nbsp\;Digital&nbsp\;Ecosystem&nbsp\;and&nbsp\;National Digital ID&nbsp\;system.&nbsp\;<br />\n<br />\nThis event has been sponsored by <a href="https://www.seagate.com/as/en/">Seagate</a>.
LOCATION:Webinar
UID:e.3314.1949
SEQUENCE:3
DTSTAMP:20260421T194506Z
URL:http://www.connect.amchamthailand.com/events/details/membership-meeting-with-h-e-chaiwut-thanakamanusorn-minister-of-digital-economy-and-society-1949
END:VEVENT

END:VCALENDAR
