BEGIN:VCALENDAR
VERSION:2.0
PRODID:-//ChamberMaster//Event Calendar 2.0//EN
METHOD:PUBLISH
X-PUBLISHED-TTL:P3D
REFRESH-INTERVAL:P3D
CALSCALE:GREGORIAN
BEGIN:VEVENT
DTSTART:20190429T013000Z
DTEND:20190429T030000Z
X-MICROSOFT-CDO-ALLDAYEVENT:FALSE
SUMMARY:Michigan State University Briefing
DESCRIPTION:By Invitation
X-ALT-DESC;FMTTYPE=text/html:By Invitation&nbsp\;
LOCATION:Courtyard by Marriott
UID:e.3314.283
SEQUENCE:3
DTSTAMP:20260423T190224Z
URL:http://www.connect.amchamthailand.com/events/details/michigan-state-university-briefing-283
END:VEVENT

END:VCALENDAR
