BEGIN:VCALENDAR
VERSION:2.0
PRODID:-//ChamberMaster//Event Calendar 2.0//EN
METHOD:PUBLISH
X-PUBLISHED-TTL:P3D
REFRESH-INTERVAL:P3D
CALSCALE:GREGORIAN
BEGIN:VEVENT
DTSTART:20181031T050000Z
DTEND:20181031T070000Z
X-MICROSOFT-CDO-ALLDAYEVENT:FALSE
SUMMARY:Monthly Luncheon & Annual General Meeting : Smart Vehicles for a Smart World
DESCRIPTION:Please join us for the Annual General Meeting and vote in the 2019-2020 Board of Governors. \n\n\n\nThe AMCHAM Auto Council and the Trade & Investment Committee are excited to feature for the AMCHAM General Membership luncheon meeting a talk on "Smart Vehicles for A Smart World" by John Yang\, President\, Ford Smart Mobility\, Asia Pacific.   \n\n \n\nJohn will highlight global trends in smart mobility and the factors that are driving advances and initiatives in this space. He will also present how car makers\, including Ford\, are developing mobility solutions and connected\, electrified and autonomous vehicles to break the barriers of gridlock\, pollution and ineffective mass transit to help shape the cities of tomorrow.\nUse this opportunity to cast your ballot in the election for the 2019-2020 board of governors and make your vote count! Absentee ballots may be mailed/faxed/delivered to the AMCHAM Office before October 30.\n\n2018 MONTHLY LUNCHEON COUPONS MAY BE USED
X-ALT-DESC;FMTTYPE=text/html:Please join us for the Annual General Meeting and vote in the 2019-2020 Board of Governors.&nbsp\;<br />\n<br />\n<span style="font-family:arial\;">The AMCHAM Auto Council and the Trade &amp\; Investment Committee are excited to feature for the AMCHAM General Membership luncheon meeting a talk on &quot\;Smart Vehicles for A Smart World&quot\; by John Yang\, President\, Ford Smart Mobility\, Asia Pacific. &nbsp\;&nbsp\;<br />\n&nbsp\;<br />\nJohn will highlight global trends in smart mobility and the factors that are driving advances and initiatives in this space. He will also present how car makers\, including Ford\, are developing mobility solutions and connected\, electrified and autonomous vehicles to break the barriers of gridlock\, pollution and ineffective mass transit to help shape the cities of tomorrow.</span>\n<p background-color:="" font-size:="" style="color: rgb(51\, 51\, 51)\; font-family: sans-serif\, Arial\, Verdana\, " trebuchet="">Use this opportunity to cast your ballot in the election for the 2019-2020 board of governors and make your vote count! Absentee ballots may be mailed/faxed/delivered to the AMCHAM Office before October 30.</p>\n\n<p background-color:="" font-size:="" style="color: rgb(51\, 51\, 51)\; font-family: sans-serif\, Arial\, Verdana\, " trebuchet=""><strong>2018 MONTHLY LUNCHEON COUPONS MAY BE USED</strong></p>\n
LOCATION:Anantara Siam\, Ballroom BTS Rajadamri
UID:e.3314.36
SEQUENCE:3
DTSTAMP:20260424T044449Z
URL:http://www.connect.amchamthailand.com/events/details/monthly-luncheon-annual-general-meeting-smart-vehicles-for-a-smart-world-36
END:VEVENT

END:VCALENDAR
