BEGIN:VCALENDAR
VERSION:2.0
PRODID:-//ChamberMaster//Event Calendar 2.0//EN
METHOD:PUBLISH
X-PUBLISHED-TTL:P3D
REFRESH-INTERVAL:P3D
CALSCALE:GREGORIAN
BEGIN:VEVENT
DTSTART:20200219T050000Z
DTEND:20200219T070000Z
X-MICROSOFT-CDO-ALLDAYEVENT:FALSE
SUMMARY:Monthly Luncheon: Digital Government Transformation
DESCRIPTION:Thailand is in the midst of national digital development to meet the 4.0 agenda\, with ease of doing business as the core policy to make Thailand an international hub.  AMCHAM is pleased to welcome Dr. Supot Tiarawut\, the new President and Chief Executive Officer of the Digital Government Development Agency to the February Monthly Luncheon.  He will talk about Thailand's policy priorities regarding the government digital transformation\, current status\, ongoing programs\, and future strategy of the digitization of government services and public administration\, and roadmap to digital government.\n\n\n\n2020 Monthly Luncheon Coupons may be used for this event.\n\n\n\nMenu:\n\n*  Mozzarella Cheese with Fresh Summer Tomatoes and Basil\,\n\n    Assorted Mediterranean Garden Lettuce\n\n    with Extra Virgin Olive Oil and Balsamic Reduction\n\n*  Marinated Chicken stuffed with Portobello and Mascarpone\,\n\n    Roasted Carrots and Balsamic Glace\n\n*  Millefuille of Strawberries and Puff Pastry\n\n\n\nVegetarian option available.  Please indicate when registering to attend.
X-ALT-DESC;FMTTYPE=text/html:<p background-color:="" color:="" font-size:="" line-height:="" margin-bottom:="" margin-top:="" open="" outline:="">Thailand is in the midst of national digital development to meet the 4.0 agenda\, with ease of doing business as the core policy to make Thailand an international hub.&nbsp\; AMCHAM is pleased to welcome <a href="https://www.linkedin.com/in/supot-tiarawut-18b6799/">Dr. Supot Tiarawut</a>\, the new President and Chief Executive Officer of the Digital Government Development Agency to the February Monthly Luncheon.&nbsp\; He will talk about Thailand&rsquo\;s policy priorities regarding the government digital transformation\, current status\, ongoing programs\, and future strategy of the digitization of government services and public administration\, and roadmap to digital government.<br />\n<br />\n2020 Monthly Luncheon Coupons may be used for this event.<br />\n<br />\nMenu:<br />\n*&nbsp\; Mozzarella Cheese with Fresh Summer Tomatoes and Basil\,<br />\n&nbsp\; &nbsp\; Assorted Mediterranean Garden Lettuce<br />\n&nbsp\; &nbsp\; with Extra Virgin Olive Oil and Balsamic Reduction<br />\n*&nbsp\; Marinated Chicken stuffed with Portobello and Mascarpone\,<br />\n&nbsp\; &nbsp\; Roasted Carrots and Balsamic Glace<br />\n*&nbsp\; Millefuille of Strawberries and Puff Pastry<br />\n<br />\nVegetarian option available.&nbsp\; Please indicate when registering to attend.</p>\n
LOCATION:Banyan Tree Bangkok\, Banyan 1 room\, 10th floor Nearest MRT Lumpini (10 minute walk)
UID:e.3314.1515
SEQUENCE:3
DTSTAMP:20260423T021047Z
URL:http://www.connect.amchamthailand.com/events/details/monthly-luncheon-digital-government-transformation-1515
END:VEVENT

END:VCALENDAR
