BEGIN:VCALENDAR
VERSION:2.0
PRODID:-//ChamberMaster//Event Calendar 2.0//EN
METHOD:PUBLISH
X-PUBLISHED-TTL:P3D
REFRESH-INTERVAL:P3D
CALSCALE:GREGORIAN
BEGIN:VEVENT
DTSTART:20190821T050000Z
DTEND:20190821T070000Z
X-MICROSOFT-CDO-ALLDAYEVENT:FALSE
SUMMARY:Monthly Luncheon: New Trends in Photography Business Licensing
DESCRIPTION:At AMCHAM's August Monthly Luncheon\, we are pleased to welcome guest speaker Kumiko Shimamoto of Getty Images to talk about the new trends and technologies empowering creative narratives for the future. \n\n \n\nDrawing on Getty's market research in the photography industry and forecasts for future technologies\, Kumiko will share insights on popular trends over the years\, such as authenticity and the responsibility to address diversity and inclusion through content and at the workplace. Kumiko will also reveal the latest trends in editorial photos and talk about integrating new technologies and tools such as AI advancing photography. \n\n\n\nKumiko Shimamoto\, Vice President of Sales   Japan\, Hong Kong\, Taiwan\, South East Asia. Kumiko is responsible for developing Getty's business in East Asia\, prior to which she worked in the Getty Images London office and has been responsible for the strong growth of editorial sales in the U.K.\, Germany and Spain. She has a background in computer game development\, sports licensing as well as in development of a business park in Central Kyoto before her move to the UK to work with Getty. Kumi holds a B.A. from Kobe University (Japan) and an M.A. from the University of Manchester (U.K.).\n\n\n\nMenu\n\n*  Caesar salad with parmesan wafer\, crisp pancetta\, and creamy anchovy dressing\n\n*  Australian Angus Hereford beef sirloin served with roasted vegetables\, and pepper sauce\n\n*  Silky cheesecake with strawberries and mint\n\n\n\nVegetarian option available.   Please indicate when booking.\n\n\n\nMONTHLY LUNCHEON COUPONS ACCEPTED
X-ALT-DESC;FMTTYPE=text/html:<p>At AMCHAM&rsquo\;s August Monthly Luncheon\, we are pleased to welcome guest speaker Kumiko Shimamoto&nbsp\;of Getty Images to talk&nbsp\;about the new trends and technologies empowering creative narratives for the future.&nbsp\;<br />\n&nbsp\;<br />\nDrawing on Getty&#39\;s market research in the photography industry and forecasts for future technologies\, Kumiko will share insights on popular trends over the years\,&nbsp\;such as authenticity and the responsibility to address diversity and inclusion through content and at the workplace. <span style="color: rgb(51\, 51\, 51)\; font-family: sans-serif\, Arial\, Verdana\, &quot\;Trebuchet MS&quot\;\; font-size: 13px\; background-color: rgb(255\, 255\, 255)\;">Kumiko </span>will also reveal the latest trends in editorial photos and talk about integrating new technologies and tools such as AI advancing photography.&nbsp\;<br />\n<br />\n<strong>Kumiko Shimamoto\,&nbsp\;</strong><strong>Vice President of Sales &ndash\; Japan\, Hong Kong\, Taiwan\, South East Asia.&nbsp\;</strong>Kumiko is responsible for developing Getty&rsquo\;s business in East Asia\, prior to which she worked in the Getty Images London office and has been responsible for the strong growth of editorial sales in the U.K.\, Germany and Spain. She has a background in computer game development\, sports licensing as well as in development of a business park in Central Kyoto before her move to the UK to work with Getty. Kumi holds a B.A. from Kobe University (Japan) and an M.A. from the University of Manchester (U.K.).<br />\n<br />\n<u><strong>Menu</strong></u><br />\n<strong>*&nbsp\;&nbsp\;</strong>Caesar salad with parmesan wafer\, crisp pancetta\, and creamy anchovy dressing<br />\n<strong>*</strong>&nbsp\; Australian Angus Hereford beef sirloin served with roasted vegetables\, and pepper sauce<br />\n<strong>*</strong>&nbsp\; Silky cheesecake with strawberries and mint<br />\n<br />\nVegetarian option available.&nbsp\; &nbsp\;Please indicate when booking.<br />\n<br />\n<strong>MONTHLY LUNCHEON COUPONS ACCEPTED</strong></p>\n
LOCATION:Conrad Bangkok\, Ballroom 2 + 3 BTS Ploenchit (Conrad Bangkok operates a free shuttle bus from bus stop on Ploenchit Road)
UID:e.3314.351
SEQUENCE:3
DTSTAMP:20260423T144231Z
URL:http://www.connect.amchamthailand.com/events/details/monthly-luncheon-new-trends-in-photography-business-licensing-351
END:VEVENT

END:VCALENDAR
