BEGIN:VCALENDAR
VERSION:2.0
PRODID:-//ChamberMaster//Event Calendar 2.0//EN
METHOD:PUBLISH
X-PUBLISHED-TTL:P3D
REFRESH-INTERVAL:P3D
CALSCALE:GREGORIAN
BEGIN:VEVENT
DTSTART:20200716T080000Z
DTEND:20200716T093000Z
X-MICROSOFT-CDO-ALLDAYEVENT:FALSE
SUMMARY:Monthly Membership Meeting: A Regional Look at Thailand and ASEAN Trade Flows During the Pandemic
DESCRIPTION:Please join us for AMCHAM's monthly member meeting for July\, where AMCHAM President\, Greg Wong\, will brief members on AMCHAM matters\, followed by a presentation covering the latest updates on foreign direct investment in the region.\n\n\n\nCovid-19 severely disrupted regional trade flows and foreign direct investment plans across all ASEAN countries\, forcing governments to respond quickly to mitigate the impact on business as well as contain the public health crisis. As we enter the second half of 2020\, we can begin to assess the outcomes of these policies as ASEAN economies position themselves for recovery and look ahead to target foreign direct investment.\n\n\n\nOur distinguished panelists will provide an overview of the current global and ASEAN trade and investment flows in the Covid-19 era\, followed by an in-depth look at what individual countries   Thailand\, Vietnam\, Singapore\, Malaysia\, Indonesia\, and Myanmar   have specifically done to support businesses in their countries\; how they are currently experiencing the economic impact\; and what their future prospects look like.\n\n\n\nAbout the Speakers\n\nOur panel feature the country heads of Tractus Asia\, a Bangkok-headquartered\, regional management consultancy that focuses on helping foreign investors succeed in Asia \n\n\n	John Evans\, Co-Founder and Managing Director\n	Udai Panicker\, Country Manager   Singapore\n	Christoph Lam\, Country Manager   Vietnam\n	James Meisenheimer\, Country Manager   Myanmar
X-ALT-DESC;FMTTYPE=text/html:<p>Please join us for AMCHAM&rsquo\;s monthly member meeting for July\, where AMCHAM President\, Greg Wong\, will brief members on AMCHAM matters\, followed by a presentation covering the latest updates on foreign direct investment in the region.<br />\n<br />\nCovid-19 severely disrupted regional trade flows and foreign direct investment plans across all ASEAN countries\, forcing governments to respond quickly to mitigate the impact on business as well as contain the public health crisis. As we enter the second half of 2020\, we can begin to assess the outcomes of these policies as ASEAN economies position themselves for recovery and look ahead to target foreign direct investment.<br />\n<br />\nOur distinguished panelists will provide an overview of the current global and ASEAN trade and investment flows in the Covid-19 era\, followed by an in-depth look at what individual countries &ndash\; Thailand\, Vietnam\, Singapore\, Malaysia\, Indonesia\, and Myanmar &ndash\; have specifically done to support businesses in their countries\; how they are currently experiencing the economic impact\; and what their future prospects look like.<br />\n<br />\n<u><strong>About the Speakers</strong></u><br />\nOur panel feature the country heads of Tractus Asia\, a Bangkok-headquartered\, regional management consultancy that focuses on helping foreign investors succeed in Asia&nbsp\;</p>\n\n<ul>\n	<li><a href="https://th.linkedin.com/in/john-evans-9082755">John Evans</a>\, Co-Founder and Managing Director</li>\n	<li><a href="https://sg.linkedin.com/in/udai-panicker-2112256">Udai Panicker</a>\, Country Manager &ndash\; Singapore</li>\n	<li><a href="https://vn.linkedin.com/in/chris-lam">Christoph Lam</a>\, Country Manager &ndash\; Vietnam</li>\n	<li><a href="https://mm.linkedin.com/in/james-meisenheimer-9565a23a">James Meisenheimer</a>\, Country Manager &ndash\; Myanmar</li>\n</ul>\n
LOCATION:Video conference Meeting
UID:e.3314.1640
SEQUENCE:3
DTSTAMP:20260422T165442Z
URL:http://www.connect.amchamthailand.com/events/details/monthly-membership-meeting-a-regional-look-at-thailand-and-asean-trade-flows-during-the-pandemic-1640
END:VEVENT

END:VCALENDAR
