BEGIN:VCALENDAR
VERSION:2.0
PRODID:-//ChamberMaster//Event Calendar 2.0//EN
METHOD:PUBLISH
X-PUBLISHED-TTL:P3D
REFRESH-INTERVAL:P3D
CALSCALE:GREGORIAN
BEGIN:VEVENT
DTSTART:20230818T110000Z
DTEND:20230818T140000Z
X-MICROSOFT-CDO-ALLDAYEVENT:FALSE
SUMMARY:Multi-Chamber Connecting Eastern Seaboard hosted by BCCT
DESCRIPTION:Please be advised that this function is a partner event with an external organizer. The registration link will send you away from the AMCHAM website to the website of the organizer.  Please be advised that this event organizer may have different data collection/privacy and event cancellation policies than AMCHAM Thailand. \n\nREGISTER NOW\n\n\n\nAMCHAM\, in cooperation with BCCT\, AustCham\, BeLuThai\, DanCham\, TFCC\, GTCC\, NorCham\, NTCC\, SATCC\, SweCham and EABC cordially invites you to the Multi-Chamber Connecting Eastern Seaboard (previously Eastern Seaboard Networking).\n\n\n\nPayment: \n\n\n	Online Payment options are available when confirming your booking (recommended). Online payment when you book is the simplest way to do this.\n	Bank transfer is also available to Kasikorn Bank 709-2-36464-4 and email finance@bccthai.com to verify for a receipt.\n\n\nPre-registration and pre-payment are required to confirm your booking. No payment on the door. No walk-ins\, please. Thank you for your co-operation
X-ALT-DESC;FMTTYPE=text/html:<p>Please be advised that this function is a partner event with an external organizer. The registration link will send you away from the AMCHAM website to the website of the organizer.&#8203\; Please be advised that this event organizer may have different data collection/privacy and event cancellation policies than AMCHAM Thailand.&nbsp\;</p>\n\n<p><span style="font-size:16px\;"><a href="https://members.bccthai.com/bcct/asp/eventdetail.asp?EventID=4109&amp\;SponsorID=-1"><strong><span style="color:#000080\;">REGISTER NOW</span></strong></a></span><br />\n<br />\nAMCHAM\, in cooperation with BCCT\, AustCham\, BeLuThai\, DanCham\, TFCC\, GTCC\, NorCham\, NTCC\, SATCC\, SweCham and EABC cordially invites you to the Multi-Chamber Connecting Eastern Seaboard (previously Eastern Seaboard Networking).<br />\n<br />\nPayment:&nbsp\;</p>\n\n<ul>\n	<li>Online Payment options are available when confirming your booking (recommended). Online payment when you book is the simplest way to do this.</li>\n	<li>Bank transfer is also available to Kasikorn Bank 709-2-36464-4 and email <a href="mailto:finance@bccthai.com">finance@bccthai.com</a>&nbsp\;to verify for a receipt.</li>\n</ul>\n\n<p><em>Pre-registration and pre-payment are required to confirm your booking. No payment on the door. No walk-ins\, please. Thank you for your co-operation</em></p>\n<quillbot-extension-portal></quillbot-extension-portal><quillbot-extension-portal></quillbot-extension-portal><quillbot-extension-portal></quillbot-extension-portal><quillbot-extension-portal></quillbot-extension-portal><quillbot-extension-portal></quillbot-extension-portal><quillbot-extension-portal></quillbot-extension-portal><quillbot-extension-portal></quillbot-extension-portal><quillbot-extension-portal></quillbot-extension-portal><quillbot-extension-portal></quillbot-extension-portal><quillbot-extension-portal></quillbot-extension-portal>
LOCATION:Renaissance Pattaya - The Deck
UID:e.3314.2580
SEQUENCE:3
DTSTAMP:20260419T201515Z
URL:http://www.connect.amchamthailand.com/events/details/multi-chamber-connecting-eastern-seaboard-hosted-by-bcct-2580
END:VEVENT

END:VCALENDAR
