BEGIN:VCALENDAR
VERSION:2.0
PRODID:-//ChamberMaster//Event Calendar 2.0//EN
METHOD:PUBLISH
X-PUBLISHED-TTL:P3D
REFRESH-INTERVAL:P3D
CALSCALE:GREGORIAN
BEGIN:VEVENT
DTSTART:20221021T110000Z
DTEND:20221021T140000Z
X-MICROSOFT-CDO-ALLDAYEVENT:FALSE
SUMMARY:Multi-Chamber Eastern Seaboard Networking hosted by AMCHAM
DESCRIPTION:Looking for a great place to do business networking on the Eastern Seaboard in a social environment? Then join us for a Multi-Chamber Eastern Seaboard Networking at InterContinental Pattaya Resort hosted by the American Chamber of Commerce in Thailand (AMCHAM) and held in conjunction with AustCham\, BCCT\, BeLuThai\, CanCham\, FTCC\, GTCC\, ITCC\, NTCC\, SATCC\, and STCC. Bring your business cards and mingle in the relaxing setting of the InterContinental Pattaya Resort.\n\n\n\nAbout the Venue:\n\nLess than two hours from Bangkok\, InterContinental Pattaya Resort is a tropical beach oasis that offers unsurpassed views of the Gulf of Thailand\, Koh Larn (Coral Island)\, and beyond. The luxury five-star resort is home to 156 spacious guestrooms\, suites and villas\, acclaimed restaurants\, a spa\, and versatile meeting venues that are perfect for every occasion. The hotel's convenient location offers easy access to Pattaya's famous attractions\, including Pattaya Floating Market and Walking Street.
X-ALT-DESC;FMTTYPE=text/html:<p><span style="font-family:arial\;"><span style="font-size:14px\;">Looking for a great place to do business networking on the Eastern Seaboard in a social environment? Then join us for a Multi-Chamber&nbsp\;Eastern Seaboard Networking at InterContinental Pattaya Resort&nbsp\;hosted by the American Chamber of Commerce in Thailand (AMCHAM) and held in conjunction with AustCham\, BCCT\, BeLuThai\, CanCham\, F</span></span><span style="font-family: arial\; font-size: 14px\;">TCC\,&nbsp\;</span><span style="font-family:arial\;"><span style="font-size:14px\;">GTCC\, ITCC\, NTCC\, SATCC\, and&nbsp\;STCC. Bring your business cards and mingle in the relaxing setting of the&nbsp\;InterContinental Pattaya Resort.<br />\n<br />\n<strong>About the Venue:</strong><br />\nLess than two hours from Bangkok\, InterContinental Pattaya Resort is a tropical beach oasis that offers unsurpassed views of the Gulf of Thailand\, Koh Larn (Coral Island)\, and beyond. The luxury five-star resort is home to 156 spacious guestrooms\, suites and villas\, acclaimed restaurants\, a spa\, and versatile meeting venues that are perfect for every occasion. The hotel&#39\;s convenient location offers easy access to Pattaya&#39\;s famous attractions\, including Pattaya Floating Market and Walking Street.</span></span></p>\n
LOCATION:InterContinental Pattaya Resort This event is preceded by a presentation on Thailand's EEC Initiative - A New Post Covid Paradigm hosted by AMCHAM's Aerospace Council. Please register separately for the presentation to ensure your seat.
UID:e.3314.2318
SEQUENCE:3
DTSTAMP:20260420T141944Z
URL:http://www.connect.amchamthailand.com/events/details/multi-chamber-eastern-seaboard-networking-hosted-by-amcham-10-21-2022-2318
END:VEVENT

END:VCALENDAR
