BEGIN:VCALENDAR
VERSION:2.0
PRODID:-//ChamberMaster//Event Calendar 2.0//EN
METHOD:PUBLISH
X-PUBLISHED-TTL:P3D
REFRESH-INTERVAL:P3D
CALSCALE:GREGORIAN
BEGIN:VEVENT
DTSTART:20231027T110000Z
DTEND:20231027T133000Z
X-MICROSOFT-CDO-ALLDAYEVENT:FALSE
SUMMARY:Multi-Chamber Eastern Seaboard Networking Hosted by AMCHAM
DESCRIPTION:Looking for a great place for business networking on the Eastern Seaboard in a social environment? Then join us for a Multi-Chamber Eastern Seaboard Networking at Holiday Inn Pattaya hosted by the American Chamber of Commerce in Thailand (AMCHAM) and held in conjunction with AustCham\, BCCT\, BeLuThai\, CanCham\, FTCC\, GTCC\, ITCC\, NTCC\, SATCC\, STCC and TTBA. Bring your business cards and mingle in the relaxing setting of the Havana Bar\, Holiday Inn Pattaya.\n\n \n\nThis is an excellent opportunity for business professionals and entrepreneurs from multinational corporations\, small and medium-sized enterprises\, government agencies\, etc\, to expand their networks and gain valuable insights into the latest trends and developments in their company and industry.\n\n \n\nDon't miss our pre-networking event on Navigating the Path - SMEs in Thailand's U-Tapao Project and the EEC\n\n \n\nAbout the Venue:\n\nHoliday Inn Pattaya is a modern and stylish hotel located in the heart of Pattaya city\, just a few minutes away from the beach\, shopping malls\, and entertainment areas. Havana Bar\, located within the hotel\, offers a unique and relaxed atmosphere\, perfect for unwinding after a long day. The hotel also features well-appointed guestrooms\, a fitness center\, and a rooftop infinity pool with stunning views of the city skyline.\n\n \n\nDrink\, Don't Drive - Accommodation Deal - Stay overnight\, book direct with the Holiday Inn Pattaya.\n\n	Standard Room @THB 3\,500.- net at Executive Tower \n	Standard Ocean View Room @ THB 4\,000.-net at Bay Tower \n\nper room per night with breakfast for single/double occupancy. \n\n- Rate is inclusive of buffet breakfast for single/double occupancy. \n\n- Rate is per room per night inclusive of 10% service charge and 7%Vat and non-commissionable.\n\nFor reservation or more details\, please contact Reservations.HolidayinnPattaya@ihg.com or Khun Theeranee Yantasri (Nunee) at Theeranee.Yantasri1@ihg.com or +66 0 3872 5555.
X-ALT-DESC;FMTTYPE=text/html:Looking for a great place for business networking on the Eastern Seaboard in a social environment? Then join us for a Multi-Chamber Eastern Seaboard Networking at Holiday Inn Pattaya hosted by the American Chamber of Commerce in Thailand (AMCHAM) and held in conjunction with AustCham\, BCCT\, BeLuThai\, CanCham\, FTCC\, GTCC\, ITCC\, NTCC\, SATCC\, STCC and TTBA. Bring your business cards and mingle in the relaxing setting of the Havana Bar\, Holiday Inn Pattaya.<br />\n&nbsp\;<br />\nThis is an excellent opportunity for business professionals and entrepreneurs from multinational corporations\, small and medium-sized enterprises\, government agencies\, etc\, to expand their networks and gain valuable insights into the latest trends and developments in their company and industry.<br />\n&nbsp\;<br />\n<strong>Don&#39\;t miss our pre-networking event on </strong><a href="https://connect.amchamthailand.com/events/details/aerospace-council-navigating-the-path-smes-in-thailand-s-u-tapao-project-and-the-eec-2644?calendarMonth=2023-10-01"><strong style="color: rgb(0\, 0\, 0)\; font-size: medium\;"><u><span style="font-size: 9pt\; font-family: &quot\;Open Sans&quot\;\, sans-serif\;">Navigating the Path - SMEs in Thailand&rsquo\;s U-Tapao Project and the EEC</span></u></strong></a><br />\n&nbsp\;<br />\n<strong>About the Venue:</strong><br />\nHoliday Inn Pattaya is a modern and stylish hotel located in the heart of Pattaya city\, just a few minutes away from the beach\, shopping malls\, and entertainment areas. Havana Bar\, located within the hotel\, offers a unique and relaxed atmosphere\, perfect for unwinding after a long day. The hotel also features well-appointed guestrooms\, a fitness center\, and a rooftop infinity pool with stunning views of the city skyline.<br />\n&nbsp\;<br />\n<strong>Drink\, Don&#39\;t Drive&nbsp\;</strong>- Accommodation Deal - Stay overnight\, book direct with the Holiday Inn Pattaya.\n<ul>\n	<li>Standard Room @THB 3\,500.- net at Executive Tower&nbsp\;</li>\n	<li>Standard Ocean View Room @ THB 4\,000.-net at Bay Tower&nbsp\;</li>\n</ul>\nper room per night with breakfast for single/double occupancy.&nbsp\;<br />\n- Rate is inclusive of buffet breakfast for single/double occupancy.&nbsp\;<br />\n- Rate is per room per night inclusive of 10% service charge and 7%Vat and non-commissionable.<br />\nFor reservation or more details\, please contact Reservations.HolidayinnPattaya@ihg.com or Khun Theeranee Yantasri&nbsp\;(Nunee) at Theeranee.Yantasri1@ihg.com&nbsp\;or +66 0 3872 5555.
LOCATION:Holiday Inn Pattaya\, Havana Bar\, Ground floor.
UID:e.3314.2487
SEQUENCE:3
DTSTAMP:20260419T164356Z
URL:http://www.connect.amchamthailand.com/events/details/multi-chamber-eastern-seaboard-networking-hosted-by-amcham-10-27-2023-2487
END:VEVENT

END:VCALENDAR
