BEGIN:VCALENDAR
VERSION:2.0
PRODID:-//ChamberMaster//Event Calendar 2.0//EN
METHOD:PUBLISH
X-PUBLISHED-TTL:P3D
REFRESH-INTERVAL:P3D
CALSCALE:GREGORIAN
BEGIN:VEVENT
DTSTART:20230519T110000Z
DTEND:20230519T133000Z
X-MICROSOFT-CDO-ALLDAYEVENT:FALSE
SUMMARY:Multi-Chamber Eastern Seaboard Networking Hosted by AMCHAM
DESCRIPTION:FULLY  BOOKED !!\n\n\n\nLooking for a great place to do business networking on the Eastern Seaboard in a social environment? Then join us for a Multi-Chamber Eastern Seaboard Networking at Holiday Inn Pattaya hosted by the American Chamber of Commerce in Thailand (AMCHAM) and held in conjunction with AustCham\, BCCT\, BeLuThai\, CanCham\, FTCC\, GTCC\, ITCC\, NTCC\, SATCC\, STCC and TTBA. Bring your business cards and mingle in the relaxing setting of the Havana Bar\, Holiday Inn Pattaya.\n\n \n\nThis is an excellent opportunity for business professionals and entrepreneurs from multinational corporations\, small and medium-sized enterprises\, government agencies\, etc\, to expand their networks and gain valuable insights into the latest trends and developments in their company and industry.\n\n \n\nCall for Sponsors!\n\nEvent Sponsorship: As an event sponsor\, your company logo will be displayed prominently during the event and on all event materials including email marketing\, social media\, and you will be recognized at the event. Sponsorship is 50\,000 baht - please contact ing@amchamthailand.com for more information.\n\n \n\nAbout the Venue:\n\nHoliday Inn Pattaya is a modern and stylish hotel located in the heart of Pattaya city\, just a few minutes away from the beach\, shopping malls\, and entertainment areas. Havana Bar\, located within the hotel\, offers a unique and relaxed atmosphere\, perfect for unwinding after a long day. The hotel also features well-appointed guestrooms\, a fitness center\, and a rooftop infinity pool with stunning views of the city skyline.\n\n \n\nDrink\, Don't Drive - Accommodation Deal - Stay overnight\, book direct with the Holiday Inn Pattaya.\n\n	Standard Room @THB 3\,500.- net at Executive Tower\n	Standard Ocean View Room @ THB 4\,000.-net at Bay Tower\n\nper room per night with breakfast for single/double occupancy.\n\n- Rate is inclusive of buffet breakfast for single/double occupancy. \n\n- Rate is per room per night inclusive of 10% service charge and 7%Vat and non-commissionable.\n\nFor reservation or more details\, please contact Khun Chanokchon Thong-Ruang (Amm) at chanokchon.thongruang@ihg.com or +66 0 3872 5555.
X-ALT-DESC;FMTTYPE=text/html:<em><span style="color:#FF0000\;"><strong>FULLY&nbsp\; BOOKED !!</strong></span></em><br />\n<br />\nLooking for a great place to do business networking on the Eastern Seaboard in a social environment? Then join us for a Multi-Chamber Eastern Seaboard Networking at Holiday Inn Pattaya hosted by the American Chamber of Commerce in Thailand (AMCHAM) and held in conjunction with AustCham\, BCCT\, BeLuThai\, CanCham\, FTCC\, GTCC\, ITCC\, NTCC\, SATCC\, STCC and TTBA. Bring your business cards and mingle in the relaxing setting of the Havana Bar\, Holiday Inn Pattaya.<br />\n&nbsp\;<br />\nThis is an excellent opportunity for business professionals and entrepreneurs from multinational corporations\, small and medium-sized enterprises\, government agencies\, etc\, to expand their networks and gain valuable insights into the latest trends and developments in their company and industry.<br />\n&nbsp\;<br />\n<em><strong>Call for Sponsors!</strong><br />\nEvent Sponsorship: As an event sponsor\, your company logo will be displayed prominently during the event and on all event materials including email marketing\, social media\, and you will be recognized at the event. Sponsorship is 50\,000 baht - please contact <a href="mailto:ing@amchamthailand.com">ing@amchamthailand.com</a> for more information.</em><br />\n&nbsp\;<br />\n<strong>About the Venue:</strong><br />\nHoliday Inn Pattaya is a modern and stylish hotel located in the heart of Pattaya city\, just a few minutes away from the beach\, shopping malls\, and entertainment areas. Havana Bar\, located within the hotel\, offers a unique and relaxed atmosphere\, perfect for unwinding after a long day. The hotel also features well-appointed guestrooms\, a fitness center\, and a rooftop infinity pool with stunning views of the city skyline.<br />\n&nbsp\;<br />\n<strong>Drink\, Don&#39\;t Drive </strong>- Accommodation Deal - Stay overnight\, book direct with the Holiday Inn Pattaya.\n<ul>\n	<li>Standard Room @THB 3\,500.- net at Executive Tower</li>\n	<li>Standard Ocean View Room @ THB 4\,000.-net at Bay Tower</li>\n</ul>\nper room per night with breakfast for single/double occupancy.<br />\n- Rate is inclusive of buffet breakfast for single/double occupancy.&nbsp\;<br />\n- Rate is per room per night inclusive of 10% service charge and 7%Vat and non-commissionable.<br />\nFor reservation or more details\, please contact Khun Chanokchon Thong-Ruang (Amm) at <a href="mailto:chanokchon.thongruang@ihg.com">chanokchon.thongruang@ihg.com</a> or +66 0 3872 5555.<br />\n&nbsp\;
LOCATION:Venue: Holiday Inn Pattaya\, Havana Bar\, Ground floor.
UID:e.3314.2549
SEQUENCE:3
DTSTAMP:20260420T032519Z
URL:http://www.connect.amchamthailand.com/events/details/multi-chamber-eastern-seaboard-networking-hosted-by-amcham-2549
END:VEVENT

END:VCALENDAR
