BEGIN:VCALENDAR
VERSION:2.0
PRODID:-//ChamberMaster//Event Calendar 2.0//EN
METHOD:PUBLISH
X-PUBLISHED-TTL:P3D
REFRESH-INTERVAL:P3D
CALSCALE:GREGORIAN
BEGIN:VEVENT
DTSTART:20190212T163000Z
DTEND:20190212T070000Z
X-MICROSOFT-CDO-ALLDAYEVENT:FALSE
SUMMARY:Multi-Chamber Luncheon : ASEAN Framework Agreement on Services
DESCRIPTION:REGISTER NOW\n\n\n\nThe British Chamber of Commerce Thailand (BCCT)\, together with AMCHAM\, NTCC\, AustCham\, BeLuThai\, CanCham\, EABC\, FTCC\, ITCC\, GTCC and STCC\, cordially invites you to BCCT Multi-Chamber Lunch on ASEAN Framework Agreement on Services (AFAS) on Tuesday 12th February.\n\nThe ASEAN Framework Agreement on Services (AFAS) was signed on 15 December 1995 by the ASEAN Economic Ministers\, allowing for Mutual Recognition Agreements (MRA) in various professions and an agreement on the Movement of Natural Persons (MNP). AFAS provides guidelines for ASEAN Member Countries to progressively improve Market Access and to ensure equal National Treatment for services suppliers within ASEAN. ASEAN currently has MRAs that facilitate the mobility of professionals for six sectors\, and framework agreements in place for two more: Engineering\; Nursing\; Architecture\; Medicine\; Dentistry\; Tourism\; Surveying (framework)\; and Accountancy (framework). More information on AFAS can be found HERE.\n\nAll members operating in these sectors or who engage with companies in these sectors may find some value in attending this event.\n\n\n \n\n.
X-ALT-DESC;FMTTYPE=text/html:<p><a href="https://members.bccthai.com/BCCT/asp/eventdetail.asp?EventID=3375&amp\;SponsorID=-1"><span style="color:#000080\;"><strong>REGISTER NOW</strong></span></a><br />\n<br />\nThe British Chamber of Commerce Thailand (BCCT)\, together with AMCHAM\, NTCC\, AustCham\, BeLuThai\, CanCham\, EABC\, FTCC\, ITCC\, GTCC and STCC\, cordially invites you to BCCT Multi-Chamber Lunch on ASEAN Framework Agreement on Services (AFAS) on Tuesday 12th February.</p>\n\n<p>The ASEAN Framework Agreement on Services (AFAS) was signed on 15 December 1995 by the ASEAN Economic Ministers\, allowing for Mutual Recognition Agreements (MRA) in various professions and an agreement on the Movement of Natural Persons (MNP). AFAS provides guidelines for ASEAN Member Countries to progressively improve Market Access and to ensure equal National Treatment for services suppliers within ASEAN. ASEAN currently has MRAs that facilitate the mobility of professionals for six sectors\, and framework agreements in place for two more: Engineering\; Nursing\; Architecture\; Medicine\; Dentistry\; Tourism\; Surveying (framework)\; and Accountancy (framework). More information on AFAS&nbsp\;can be found <a href="https://www.gfmd.org/pfp/ppd/10303">HERE</a>.</p>\n\n<p>All members operating in these sectors or who engage with companies in these sectors may find some value in attending this event.</p>\n\n<div align="center">\n<p>&nbsp\;</p>\n\n<p>.&nbsp\;</p>\n</div>\n<br />\n<span style="color:#002060\;">&nbsp\;</span><br />\n&nbsp\;
LOCATION:Hilton Sukhumvit Bangkok\, Sukhumvit 24 Nearest BTS Phrom Phong exit 4.
UID:e.3314.187
SEQUENCE:3
DTSTAMP:20260423T235824Z
URL:http://www.connect.amchamthailand.com/events/details/multi-chamber-luncheon-asean-framework-agreement-on-services-187
END:VEVENT

END:VCALENDAR
