BEGIN:VCALENDAR
VERSION:2.0
PRODID:-//ChamberMaster//Event Calendar 2.0//EN
METHOD:PUBLISH
X-PUBLISHED-TTL:P3D
REFRESH-INTERVAL:P3D
CALSCALE:GREGORIAN
BEGIN:VEVENT
DTSTART:20190319T050000Z
DTEND:20190319T070000Z
X-MICROSOFT-CDO-ALLDAYEVENT:FALSE
SUMMARY:Multi-Chamber Monthly Lunch: Thailand’s Economic Goals as ASEAN Chair
DESCRIPTION:ONLINE REGISTRATON CLOSED\n\nAMCHAM in collaboration with the Australian-Thai Chamber of Commerce (AustCham)\, British Chamber of Commerce Thailand (BCCT)\, The Belgian-Luxembourg/Thai Chamber of Commerce (BeLuThai)\, Thai-Canadian Chamber of Commerce (CANCHAM)\, German-Thai Chamber of Commerce (GTCC)\, Netherlands-Thai Chamber of Commerce (NTCC)\, Singapore-Thai Chamber of Commerce (STCC) and South African-Thai Chamber of Commerce (SATCC) would like to invite members and guests to attend a Business Luncheon with special guest speaker Khun Arin Jira\, Chairman of ASEAN-BAC Thailand on Thailand's Economic Goals as ASEAN Chair.\n\nKhun Arin recently communicated the four pillars  for Empowering ASEAN 4.0\, namely Digital Infrastructure\, Digital Connectivity\, Human Resources Development\, and MSMEs Development at a special ASEAN summit in Bangkok\, and this is an opportunity for the wider foreign chamber community to find out how our members can play a role in these areas.
X-ALT-DESC;FMTTYPE=text/html:<p>ONLINE REGISTRATON&nbsp\;CLOSED</p>\n\n<p>AMCHAM in collaboration with the&nbsp\;Australian-Thai Chamber of Commerce (AustCham)\, British Chamber of Commerce Thailand (BCCT)\, The Belgian-Luxembourg/Thai Chamber of Commerce (BeLuThai)\,&nbsp\;Thai-Canadian Chamber of Commerce (CANCHAM)\, German-Thai Chamber of Commerce (GTCC)\, Netherlands-Thai Chamber of Commerce (NTCC)\, Singapore-Thai Chamber of Commerce (STCC) and South African-Thai Chamber of Commerce (SATCC) would like to invite members and guests to attend&nbsp\;a Business Luncheon with special guest speaker<strong> Khun Arin Jira\, Chairman of ASEAN-BAC Thailand</strong> on Thailand&#39\;s Economic Goals as ASEAN Chair.</p>\n\n<p>Khun Arin recently communicated the four pillars &nbsp\;for Empowering ASEAN 4.0\, namely Digital Infrastructure\, Digital Connectivity\, Human Resources Development\, and MSMEs Development&nbsp\;at a special ASEAN summit in Bangkok\, and this is an opportunity for the wider foreign chamber community to find out how our members can play a role in these areas.</p>\n\n<p>&nbsp\;</p>\n\n<p>&nbsp\;</p>\n\n<p>&nbsp\;</p>\n
LOCATION:Novotel Bangkok Sukhumvit 20\, Benjasiri Ballroom 1 Asoke BTS / Sukhumvit MRT
UID:e.3314.249
SEQUENCE:3
DTSTAMP:20260423T203516Z
URL:http://www.connect.amchamthailand.com/events/details/multi-chamber-monthly-lunch-thailand-s-economic-goals-as-asean-chair-249
END:VEVENT

END:VCALENDAR
