BEGIN:VCALENDAR
VERSION:2.0
PRODID:-//ChamberMaster//Event Calendar 2.0//EN
METHOD:PUBLISH
X-PUBLISHED-TTL:P3D
REFRESH-INTERVAL:P3D
CALSCALE:GREGORIAN
BEGIN:VEVENT
DTSTART:20230517T113000Z
DTEND:20230517T140000Z
X-MICROSOFT-CDO-ALLDAYEVENT:FALSE
SUMMARY:Multi-Chamber Networking Night hosted by STCC
DESCRIPTION:Please be advised that this function is a partner event with an external organizer. The registration link will send you away from the AMCHAM website to the website of the organizer.  Please be advised that this event organizer may have different data collection/privacy and event cancellation policies than AMCHAM Thailand.\n\nREGISTER NOW\n\n\n\nAMCHAM Thailand\, in collaboration with the Singapore-Thai Chamber of Commerce (STCC)\, and foreign chambers of commerce welcomes members and guests to join the Multi-Chamber Networking event\, featuring "Meet the New STCC BOD". This event is hosted by STCC at Atelier Hall\, Le M ridien Bangkok.
X-ALT-DESC;FMTTYPE=text/html:<p>Please be advised that this function is a partner event with an external organizer. The registration link will send you away from the AMCHAM website to the website of the organizer.&#8203\; Please be advised that this event organizer may have different data collection/privacy and event cancellation policies than AMCHAM Thailand.</p>\n\n<p><strong><a href="https://forms.gle/JwcCgESLYL1oaxqE7">REGISTER NOW</a></strong><br />\n<br />\nAMCHAM Thailand\, in collaboration with&nbsp\;the Singapore-Thai Chamber of Commerce (STCC)\, and foreign chambers of commerce&nbsp\;welcomes members and guests to join the Multi-Chamber Networking event\, featuring &quot\;Meet the New STCC BOD&quot\;. This event is hosted by STCC at&nbsp\;Atelier Hall\, Le M&eacute\;ridien Bangkok.</p>\n
LOCATION:Atelier Hall\, Le M ridien Bangkok.
UID:e.3314.2553
SEQUENCE:3
DTSTAMP:20260420T013754Z
URL:http://www.connect.amchamthailand.com/events/details/multi-chamber-networking-night-hosted-by-stcc-2553
END:VEVENT

END:VCALENDAR
