BEGIN:VCALENDAR
VERSION:2.0
PRODID:-//ChamberMaster//Event Calendar 2.0//EN
METHOD:PUBLISH
X-PUBLISHED-TTL:P3D
REFRESH-INTERVAL:P3D
CALSCALE:GREGORIAN
BEGIN:VEVENT
DTSTART:20230712T113000Z
DTEND:20230712T140000Z
X-MICROSOFT-CDO-ALLDAYEVENT:FALSE
SUMMARY:Multi-Chamber Networking Night - July\, hosted by STCC
DESCRIPTION:AMCHAM Thailand\, in collaboration with the Singapore-Thai Chamber of Commerce (STCC)\, and foreign chambers of commerce welcomes members and guests to join the Multi-Chamber Networking event. This event is hosted by STCC at Phayathai 4 room\, Eastin Grand Hotel Phayathai Bangkok (Phayathai BTS Station).\n\n\n\nPlease be advised that this function is a partner event with an external organizer. The registration link will send you away from the AMCHAM website to the website of the organizer.  Please be advised that this event organizer may have different data collection/privacy and event cancellation policies than AMCHAM Thailand.\n\nREGISTER NOW
X-ALT-DESC;FMTTYPE=text/html:<p>AMCHAM Thailand\, in collaboration with&nbsp\;the Singapore-Thai Chamber of Commerce (STCC)\, and foreign chambers of commerce&nbsp\;welcomes members and guests to join the Multi-Chamber Networking event. This event is hosted by STCC at&nbsp\;Phayathai 4 room\, <a href="https://goo.gl/maps/9iPDHxucGhw7e3r39">Eastin Grand Hotel Phayathai Bangkok</a> (Phayathai BTS Station).<br>\n<br>\nPlease be advised that this function is a partner event with an external organizer. The registration link will send you away from the AMCHAM website to the website of the organizer.&#8203\; Please be advised that this event organizer may have different data collection/privacy and event cancellation policies than AMCHAM Thailand.</p>\n\n<p><a href="https://forms.gle/UrPD4RUnvwJ6nKtD6">REGISTER NOW</a></p>\n
LOCATION:Phayathai 4 room\, Eastin Grand Hotel Phayathai Bangkok Phayathai BTS Station
UID:e.3314.2588
SEQUENCE:3
DTSTAMP:20260419T220852Z
URL:http://www.connect.amchamthailand.com/events/details/multi-chamber-networking-night-july-hosted-by-stcc-2588
END:VEVENT

END:VCALENDAR
