BEGIN:VCALENDAR
VERSION:2.0
PRODID:-//ChamberMaster//Event Calendar 2.0//EN
METHOD:PUBLISH
X-PUBLISHED-TTL:P3D
REFRESH-INTERVAL:P3D
CALSCALE:GREGORIAN
BEGIN:VEVENT
DTSTART:20220630T110000Z
DTEND:20220630T143000Z
X-MICROSOFT-CDO-ALLDAYEVENT:FALSE
SUMMARY:Multi-Chamber Social Networking Event
DESCRIPTION:Please note that this event is hosted by the BeluThai Chamber and event requirements may differ from AMCHAM. Clicking the link will bring you to their registration page and away from the AMCHAM website.\n\n\n\nREGISTER NOW\n\n\n\nThe Belgian-Luxembourg/Thai Chamber of Commerce (BeLuThai)\, in collaboration with The American Chamber of Commerce in Thailand (AMCHAM)\, The Thai-Canadian Chamber of Commerce (CanCham Thailand)\, The European Association for Business and Commerce (EABC)\, The Joint Foreign Chambers of Commerce in Thailand (JFCCT)\, The Singapore-Thai Chamber of Commerce (STCC)\, The SwissThai Chamber of Commerce (STCC)\, The Thai-Finnish Chamber of Commerce (TFCC)\, and Thai-Sri Lanka Chamber of Commerce (TSLCC)\, is delighted to invite you to join us for the "Multi-Chamber Social Networking Event." Members and friends are welcome to join us at this event!\n\n\n\nThe Peninsula Bangkok Hotel is where the signature Peninsula style meets genuine Thai Charm\, a truly distinct urban resort experience. With a keen sense of style and savoir-faire. The Peninsula Hotels is the only hotel brand to be awarded the highest possible FIVE-STAR status across all ten of its hotels by Forbes Travel Guide in 2021. With the stylish environment\, together with the warm and friendly vibe\, you will enjoy the delicious food and free flow of drinks where you can also enjoy the connection talk and business opportunities during this session. \n\n\n\nSincere thanks to our Event Sponsors - Thailand Convention and Exhibition Bureau (TCEB) and WHA Industrial Development Public Company Limited.\n\n\n\n*** Registration is required before Tuesday 28th June at 5 pm. ***
X-ALT-DESC;FMTTYPE=text/html:<p>Please note that this event is hosted by the BeluThai Chamber&nbsp\;and event requirements may&nbsp\;differ from AMCHAM. Clicking the link will bring you to their registration page and away from the AMCHAM website.<br />\n<br />\n<a href="https://www.beluthai.org/event/beluthai-social-networking-event-2022-06-30-25">REGISTER NOW</a><br />\n<br />\nThe Belgian-Luxembourg/Thai Chamber of Commerce (BeLuThai)\, in collaboration with The American Chamber of Commerce in Thailand (AMCHAM)\, The Thai-Canadian Chamber of Commerce (CanCham Thailand)\, The European Association for Business and Commerce (EABC)\, The Joint Foreign Chambers of Commerce in Thailand (JFCCT)\, The Singapore-Thai Chamber of Commerce (STCC)\, The SwissThai Chamber of Commerce (STCC)\, The Thai-Finnish Chamber of Commerce (TFCC)\, and Thai-Sri Lanka Chamber of Commerce (TSLCC)\, is delighted to invite you to join us for the&nbsp\;&quot\;Multi-Chamber&nbsp\;Social Networking Event.&quot\;&nbsp\;Members and friends are welcome to join us at this event!<br />\n<br />\nThe Peninsula Bangkok Hotel is where the signature Peninsula style meets genuine Thai Charm\, a truly distinct urban resort experience. With a keen sense of style and savoir-faire. The Peninsula Hotels is the only hotel brand to be awarded the highest possible&nbsp\;FIVE-STAR status&nbsp\;across all ten of its hotels by Forbes Travel Guide in 2021. With the stylish environment\, together with the warm and friendly vibe\, you will enjoy the delicious food and free flow of drinks where you can also enjoy the connection talk and business opportunities during this session.&nbsp\;<br />\n<br />\nSincere thanks to our Event Sponsors -&nbsp\;<a aria-describedby="tooltip842168" data-original-title="" font-size:="" href="https://www.businesseventsthailand.com/" odoo="" sans="" source="" support="" target="_blank" title="" unicode="">Thailand Convention and Exhibition Bureau (TCEB)</a>&nbsp\;and&nbsp\;<a aria-describedby="tooltip810550" data-original-title="" font-size:="" href="https://www.wha-industrialestate.com/en/home" odoo="" sans="" source="" support="" target="_blank" title="" unicode="">WHA Industrial Development Public Company Limited</a>.<br />\n<br />\n*** Registration is required before Tuesday 28th June at 5 pm. ***</p>\n
LOCATION:Jesters\, The Peninsula Bangkok Hotel
UID:e.3314.2231
SEQUENCE:3
DTSTAMP:20260420T215001Z
URL:http://www.connect.amchamthailand.com/events/details/multi-chamber-social-networking-event-2231
END:VEVENT

END:VCALENDAR
