BEGIN:VCALENDAR
VERSION:2.0
PRODID:-//ChamberMaster//Event Calendar 2.0//EN
METHOD:PUBLISH
X-PUBLISHED-TTL:P3D
REFRESH-INTERVAL:P3D
CALSCALE:GREGORIAN
BEGIN:VEVENT
DTSTART:20200430T060000Z
DTEND:20200430T070000Z
X-MICROSOFT-CDO-ALLDAYEVENT:FALSE
SUMMARY:Multi-Chambers & AMCHAM SBE Committee: Soft Loans for SMEs
DESCRIPTION:AMCHAM's Small Business & Entrepreneur (SBE) Committee\, together with BCCT and GTCC\, are pleased to invite you to an information session on the recently announced Soft Loan Scheme for SMEs\, launched by the Bank of Thailand (BoT) and Ministry of Finance.\n\n \n\nPlease join us to hear BoT Assistant Governor Jaturong Jantarangs presents details of the scheme\, which has allocated 500 billion baht in funding for commercial banks to lend to SMEs. The program is intended to mitigate the immediate liquidity problems that many SMEs face\, and allow them to continue to pay salaries and other essential costs.\n\n \n\nThe BoT presentation will be followed by Q&A session moderated by Sunanta Titikajorn\, Director of Global Corporate and Investment Banking\, Bank of America\, where audience members can ask practical questions about the scheme from both Bank of Thailand and commercial banking representatives.
X-ALT-DESC;FMTTYPE=text/html:AMCHAM&#39\;s Small Business &amp\; Entrepreneur (SBE) Committee\, together with BCCT and GTCC\, are pleased to invite you to an information session on the recently announced Soft Loan Scheme for SMEs\, launched by the Bank of Thailand (BoT) and Ministry of Finance.<br />\n&nbsp\;<br />\nPlease join us to hear BoT Assistant Governor Jaturong Jantarangs presents details of the scheme\, which has allocated 500 billion baht in funding for commercial banks to lend to SMEs. The program is intended to mitigate the immediate liquidity problems that many SMEs face\, and allow them to continue to pay salaries and other essential costs.<br />\n&nbsp\;<br />\nThe BoT presentation will be followed by Q&amp\;A session moderated by Sunanta Titikajorn\, Director of Global Corporate and Investment Banking\, Bank of America\, where audience members can ask practical questions about the scheme from both Bank of Thailand and commercial banking representatives.
LOCATION:Online Video Conference
UID:e.3314.1601
SEQUENCE:3
DTSTAMP:20260422T220940Z
URL:http://www.connect.amchamthailand.com/events/details/multi-chambers-amcham-sbe-committee-soft-loans-for-smes-1601
END:VEVENT

END:VCALENDAR
