BEGIN:VCALENDAR
VERSION:2.0
PRODID:-//ChamberMaster//Event Calendar 2.0//EN
METHOD:PUBLISH
X-PUBLISHED-TTL:P3D
REFRESH-INTERVAL:P3D
CALSCALE:GREGORIAN
BEGIN:VEVENT
DTSTART:20200127T113000Z
DTEND:20200127T140000Z
X-MICROSOFT-CDO-ALLDAYEVENT:FALSE
SUMMARY:Multi Chambers Briefing: FCA Dinner Presentation with Minister of Education hosted by BCCT
DESCRIPTION:AMCHAM in collaboration with BCCT\, AustCham and GTCC invites you to the FCA Dinner Presentation with Minister of Education. H.E. Mr. Nataphol Teepsuwan will speak about The Future Direction of Education in Thailand.\n\n\n\nThis event is sponsored by International School Bangkok\, VERSO International School\, BASIS International School Bangkok and The Village International Education Centre\n\n\n\nDirect booking & prepayment to banthita@bccthai.com
X-ALT-DESC;FMTTYPE=text/html:<div>AMCHAM in collaboration with BCCT\, AustCham and GTCC invites you to the FCA Dinner Presentation with Minister of Education. H.E. Mr. Nataphol Teepsuwan will speak about The Future Direction of Education in Thailand.<br />\n<br />\nThis event is sponsored by&nbsp\;<a href="https://www.isb.ac.th/">International School Bangkok</a>\,&nbsp\;<a href="https://www.verso.school/">VERSO International School</a>\,&nbsp\;<a href="https://basisinternationalbkk.com/">BASIS International School Bangkok</a>&nbsp\;and&nbsp\;<a href="https://www.village-education.com/">The Village International Education Centre</a><br />\n<br />\n<span style="color:#FF0000\;"><em>Direct booking &amp\; prepayment to banthita@bccthai.com&nbsp\;</em></span></div>\n
LOCATION:Four Rivers Room\, 1st Floor\, Ramada Plaza Bangkok Menam Riverside\, 2074 Charoenkrung Road
UID:e.3314.491
SEQUENCE:3
DTSTAMP:20260423T035717Z
URL:http://www.connect.amchamthailand.com/events/details/multi-chambers-briefing-fca-dinner-presentation-with-minister-of-education-hosted-by-bcct-491
END:VEVENT

END:VCALENDAR
