BEGIN:VCALENDAR
VERSION:2.0
PRODID:-//ChamberMaster//Event Calendar 2.0//EN
METHOD:PUBLISH
X-PUBLISHED-TTL:P3D
REFRESH-INTERVAL:P3D
CALSCALE:GREGORIAN
BEGIN:VEVENT
DTSTART:20190222T100000Z
DTEND:20190222T143000Z
X-MICROSOFT-CDO-ALLDAYEVENT:FALSE
SUMMARY:Multi-Chambers Chiang Mai Connect by NTCC x Regus: ‘Diversity in the Workplace’ – Community Talk & Networking
DESCRIPTION:REGISTER NOW\n\n\n\nWhat vital elements in a company's culture will foster openness\, leading to innovation? Research has shown that\, universally\, organizations who embrace diversity are more creative/innovative\, perform better\, and are more adaptive to change. With Chiang Mai's emerging multicultural business landscape\, it is important for startups\, SMEs\, corporates\, all business alike to leverage these competencies.\n\n\n\nIn light of the Chiang Mai Pride parade on the same week\, Chiang Mai Connect would like to highlight the theme of Diversity in the Workplace. Join us for this special edition hosted at the newly launched location of Regus at Chiang Mai Icon Park! \n\n\n	Learn about the new civil partnership law  (recently passed through the government's cabinet) and how it will affect your businesses from inclusiveness experts\n	Unlock opportunities fostering a creative / innovative environment for you and your team through 'Diversity in the Workplace'.\n	Connect with entrepreneurs & professionals from wide-ranging industries in the North - linking business groups from the international and local chambers of commerce\, to the Federation of Thai Industries\n	Only 45 seats available for this special edition!\n\n\n\nChiang Mai Connect speakers:\n\n\n	Paul Overdijk\, Co-chair Advisory Board\, Workplace Pride \n\n\n\n	Hans van den Born\, Executive Director\, NTCC - Netherlands Thailand Chamber of Commerce  \n\n\n\n	Chitsanupong (Best) Nithiwana\, Lead Organizer\, Chiang Mai Pride 2019 \n\n\n\nEvent Agenda\n\n    5.00 pm - Registration\n\n    5.30 pm - 'Diversity in the Workplace' talk & discussion\n\n    7.00 pm - Opening by hosts\n\n    7.15 pm - Business connecting games\n\n    7.45 pm - Networking\n\n    9.30 pm - Event ends
X-ALT-DESC;FMTTYPE=text/html:<div><br />\n<span style="font-size:14px\;"><span style="font-family:arial\;"><a href="https://www.eventbank.com/event/11988/register/"><strong>REGISTER NOW</strong></a><br />\n<br />\nWhat&nbsp\;vital elements in a company&#39\;s culture will foster&nbsp\;openness\, leading to innovation? Research has shown that\, universally\, organizations who embrace diversity&nbsp\;are more creative/innovative\, perform better\, and are more adaptive&nbsp\;to change. With Chiang Mai&#39\;s emerging multicultural business landscape\, it is important for startups\, SMEs\, corporates\, all business alike to leverage these competencies.<br />\n<br />\nIn light of the&nbsp\;<a href="https://www.facebook.com/events/1525962860881795/" target="_blank">Chiang Mai Pride</a>&nbsp\;parade on the same week\, Chiang Mai Connect would like to highlight the theme of&nbsp\;Diversity&nbsp\;in the Workplace. Join us for this special edition hosted at the newly launched location of&nbsp\;<a href="https://goo.gl/maps/C1DpnNYZ8s82" target="_blank">Regus at&nbsp\;Chiang Mai Icon Park</a>!&nbsp\;</span></span></div>\n\n<ul>\n	<li><span style="font-size:14px\;"><span style="font-family:arial\;">Learn about the new&nbsp\;<strong>civil partnership law&nbsp\;</strong> (recently passed through the government&#39\;s cabinet) and how it will&nbsp\;<strong>affect your businesses</strong>&nbsp\;from&nbsp\;<strong>inclusiveness</strong> <strong>experts</strong></span></span></li>\n	<li><span style="font-size:14px\;"><span style="font-family:arial\;">Unlock opportunities fostering a creative /&nbsp\;<strong>innovative environment</strong>&nbsp\;for you and your team through&nbsp\;<strong>&#39\;Diversity&nbsp\;in the Workplace&#39\;.</strong></span></span></li>\n	<li><span style="font-size:14px\;"><span style="font-family:arial\;">Connect with&nbsp\;<strong>entrepreneurs &amp\; professionals</strong>&nbsp\;from wide-ranging industries in the North - linking business groups from the international and local chambers of commerce\, to the Federation of Thai Industries</span></span></li>\n	<li><span style="font-size:14px\;"><span style="font-family:arial\;">Only&nbsp\;<strong>45 seats available</strong>&nbsp\;for this special edition!</span></span></li>\n</ul>\n<br />\n<span style="font-size:14px\;"><span style="font-family:arial\;"><strong>Chiang Mai Connect speakers:</strong></span></span>\n\n<ul>\n	<li><span style="font-size:14px\;"><span style="font-family:arial\;"><a href="https://us9.campaign-archive.com/?e=%5BUNIQID%5D&amp\;fbclid=IwAR0HTYKD_ejbljsqsFwA2aTbX_yGV-cI0UhO1tTQlp7ZdpJbymCRxDj9QLw&amp\;id=7610ba63e6&amp\;u=580eda3bb14620f75bc6b3b14"><strong>Paul Overdijk</strong></a>\,&nbsp\;Co-chair Advisory Board\, Workplace Pride&nbsp\;</span></span></li>\n</ul>\n\n<ul>\n	<li><span style="font-size:14px\;"><span style="font-family:arial\;"><a href="https://us9.campaign-archive.com/?e=%5BUNIQID%5D&amp\;fbclid=IwAR0HTYKD_ejbljsqsFwA2aTbX_yGV-cI0UhO1tTQlp7ZdpJbymCRxDj9QLw&amp\;id=7610ba63e6&amp\;u=580eda3bb14620f75bc6b3b14"><strong>Hans van den Born</strong></a>\,&nbsp\;Executive&nbsp\;Director\, NTCC - Netherlands Thailand Chamber of Commerce&nbsp\;&nbsp\;</span></span></li>\n</ul>\n\n<ul>\n	<li><span style="font-size:14px\;"><span style="font-family:arial\;"><a href="https://us9.campaign-archive.com/?e=%5BUNIQID%5D&amp\;fbclid=IwAR0HTYKD_ejbljsqsFwA2aTbX_yGV-cI0UhO1tTQlp7ZdpJbymCRxDj9QLw&amp\;id=7610ba63e6&amp\;u=580eda3bb14620f75bc6b3b14"><strong>Chitsanupong (Best) Nithiwana</strong></a>\,&nbsp\;Lead Organizer\, Chiang Mai Pride 2019&nbsp\;</span></span></li>\n</ul>\n<br />\n<span style="font-size:14px\;"><span style="font-family:arial\;"><strong>Event Agenda</strong></span></span><br />\n&nbsp\; &nbsp\; <span style="font-size:14px\;"><span style="font-family:arial\;">5.00 pm - Registration</span></span><br />\n&nbsp\; &nbsp\; <span style="font-family: arial\; font-size: 14px\;">5.30</span><span style="font-size:14px\;"><span style="font-family:arial\;"> pm - &#39\;Diversity in the Workplace&#39\; talk &amp\; discussion</span></span><br />\n&nbsp\; &nbsp\; <span style="font-size:14px\;"><span style="font-family:arial\;">7.00 pm - Opening by hosts</span></span><br />\n&nbsp\; &nbsp\; <span style="font-size:14px\;"><span style="font-family:arial\;">7.15 pm - Business connecting&nbsp\;games</span></span><br />\n&nbsp\; &nbsp\; <span style="font-size:14px\;"><span style="font-family:arial\;">7.45 pm - Networking</span></span><br />\n&nbsp\; &nbsp\; <span style="font-size:14px\;"><span style="font-family:arial\;">9.30 pm - Event ends</span></span><br />\n<br />\n<span style="font-size:14px\;"><span style="font-family:arial\;">&nbsp\;</span></span>\n\n<p>&nbsp\;</p>\n
LOCATION:Venue: Regus at Chiang Mai Icon Park (map) Parking: Icon IT Chiang Mai (map)
UID:e.3314.266
SEQUENCE:3
DTSTAMP:20260423T221721Z
URL:http://www.connect.amchamthailand.com/events/details/multi-chambers-chiang-mai-connect-by-ntcc-x-regus-diversity-in-the-workplace-community-talk-networking-266
END:VEVENT

END:VCALENDAR
