BEGIN:VCALENDAR
VERSION:2.0
PRODID:-//ChamberMaster//Event Calendar 2.0//EN
METHOD:PUBLISH
X-PUBLISHED-TTL:P3D
REFRESH-INTERVAL:P3D
CALSCALE:GREGORIAN
BEGIN:VEVENT
DTSTART:20231117T110000Z
DTEND:20231117T140000Z
X-MICROSOFT-CDO-ALLDAYEVENT:FALSE
SUMMARY:Multi-Chambers Eastern Seaboard Networking Hosted by BeLuThai
DESCRIPTION:Please be advised that this function is a partner event with an external organizer. The registration link will send you away from the AMCHAM website to the website of the organizer.  Please be advised that this event organizer may have different data collection/privacy and event cancellation policies than AMCHAM Thailand.\n\nREGISTER NOW\n\n\n\nAMCHAM in corporation with The Belgian-Luxembourg/Thai Chamber of Commerce is delighted to invite you and your friends to join "Multi-Chamber Eastern Seaboard Networking." \n\n\n\nBeLuThai's event policy: Due to COVID-19 restrictions and limited event space\, advance registration and payment is required to confirm your booking. No walk-ins\, thank you for your kind cooperation.\n\n\n\nPayment and Cancellation Policy:\n\n\n	Advance payment is required to confirm your registration and if payment is not made 48 hours before the event\, your place will be passed on to the waiting list.\n	Free cancellation within 48 hours before the event and payments are refundable or transferred to the next event's credit.\n	Cancellations received less than 48 hours and no-shows are NOT able to receive either a refund or credit. Those who haven't paid will be charged with invoices unconditionally.\n\nSpecial Accommodations Rate:\n\n\n\nOZO North Pattaya\n\n	OZO North Pattaya Superior Room: 2\,800 THB/Room/Night\n	OZO North Pattaya Deluxe Ocean View Room: 3\,000 THB/Room/Night\n\nAmari Pattaya\n\n\n	Amari Pattaya Deluxe Room: 5\,000 THB/Room/Night\n	Contact person at OZO North & Amari Pattaya: Khun Nicha 0987219599 nicha.w@ozohotels.com
X-ALT-DESC;FMTTYPE=text/html:<p>Please be advised that this function is a partner event with an external organizer. The registration link will send you away from the AMCHAM website to the website of the organizer.&#8203\; Please be advised that this event organizer may have different data collection/privacy and event cancellation policies than AMCHAM Thailand.</p>\n\n<p><span style="font-size:18px\;"><a href="https://www.beluthai.org/event/multi-chambers-eastern-seaboard-networking-event-2023-11-17-43/register"><span style="font-family:arial\;"><strong><span style="color:#000080\;">REGISTER NOW</span></strong></span></a></span><br />\n<br />\nAMCHAM in corporation with The Belgian-Luxembourg/Thai Chamber of Commerce is delighted to invite you and your friends to join &quot\;Multi-Chamber Eastern Seaboard Networking.&quot\;&nbsp\;<br />\n<br />\n<strong>BeLuThai&#39\;s event policy:&nbsp\;</strong>Due to COVID-19 restrictions and limited event space\, advance registration and payment is required to confirm your booking. No walk-ins\, thank you for your kind cooperation.<br />\n<br />\n<strong>Payment and Cancellation Policy:</strong></p>\n\n<ul>\n	<li>Advance payment is required to confirm your registration and if payment is not made 48 hours before the event\, your place will be passed on to the waiting list.</li>\n	<li>Free cancellation within 48 hours before the event and payments are refundable or transferred to the next event&rsquo\;s credit.</li>\n	<li>Cancellations received less than 48 hours and no-shows are NOT able to receive either a refund or credit. Those who haven&rsquo\;t paid will be charged with invoices unconditionally.</li>\n</ul>\n<strong>Special Accommodations Rate:</strong><br />\n<br />\nOZO North Pattaya\n<ul>\n	<li>OZO North Pattaya Superior Room: 2\,800 THB/Room/Night</li>\n	<li>OZO North Pattaya Deluxe Ocean View Room: 3\,000 THB/Room/Night</li>\n</ul>\nAmari Pattaya\n\n<ul>\n	<li>Amari Pattaya Deluxe Room: 5\,000 THB/Room/Night</li>\n	<li>Contact person at OZO North &amp\; Amari Pattaya:&nbsp\;Khun Nicha 0987219599 nicha.w@ozohotels.com&nbsp\;</li>\n</ul>\n
LOCATION:OZO North Pattaya Hotel
UID:e.3314.2647
SEQUENCE:3
DTSTAMP:20260419T150524Z
URL:http://www.connect.amchamthailand.com/events/details/multi-chambers-eastern-seaboard-networking-hosted-by-beluthai-2647
END:VEVENT

END:VCALENDAR
