BEGIN:VCALENDAR
VERSION:2.0
PRODID:-//ChamberMaster//Event Calendar 2.0//EN
METHOD:PUBLISH
X-PUBLISHED-TTL:P3D
REFRESH-INTERVAL:P3D
CALSCALE:GREGORIAN
BEGIN:VEVENT
DTSTART:20220617T110000Z
DTEND:20220617T140000Z
X-MICROSOFT-CDO-ALLDAYEVENT:FALSE
SUMMARY:Multi-Chambers Eastern Seaboard Networking hosted by NTCC & BeLuThai | Netherlands-Thai Chamber of Commerce
DESCRIPTION:REGISTER NOW\n\n\n\nThe NTCC & BeLuThai\, supported by AustCham\, AmCham\, BCCT\, CanCham\, GTCC\, NZTCC\, STCC and SATCC\, proudly present "Multi-Chambers Eastern Seaboard Networking" on Friday 17 June 2022\, 18:00 - 21:00 hrs. at Pullman Pattaya Hotel G. Members and friends in the area and those who have a business meeting nearby\, please join us at this Multi-Chambers event!\n\n\n\nAt the event\, as you are in front of the sea - the best view\, you will see the beautiful sunset and feel the sea breeze in the afternoon. Together with the warm and friendly vibe\, you will enjoy the delicious cocktail canap  and a free flow of soft drinks\, beer\, and wine.\n\n\n\nRemark:\n\n\n\n- A pre-registration and payment in advance are prerequisites.\n\n\n\n- Proof of negative ATK test taken within 36 hours of arriving at the event to be shown at registration. A simple photo of a negative result with something that indicates the date/time included will suffice.\n\n\n\n- Cancellation 3 days before the event and payment will not be refunded but can be transferred to next event's credit.\n\n\n\n- No-shows are not able to receive a refund or credit.
X-ALT-DESC;FMTTYPE=text/html:<p><a href="https://app.glueup.com/event/multi-chambers-eastern-seaboard-networking-hosted-by-ntcc-beluthai-57213/"><span style="font-size:12px\;"><span style="font-family:arial\;"><strong><span style="color:#000080\;">REGISTER NOW</span></strong></span></span></a><br />\n<br />\nThe NTCC &amp\; BeLuThai\, supported by AustCham\, AmCham\, BCCT\, CanCham\, GTCC\, NZTCC\, STCC and SATCC\, proudly present &quot\;Multi-Chambers Eastern Seaboard Networking&quot\; on Friday 17 June 2022\, 18:00 - 21:00 hrs. at Pullman Pattaya Hotel G. Members and friends in the area and those who have a business meeting nearby\, please join us at this Multi-Chambers event!<br />\n<br />\nAt the event\, as you are in front of the sea - the best view\, you will see the beautiful sunset and feel the sea breeze in the afternoon. Together with the warm and friendly vibe\, you will enjoy the delicious cocktail canap&eacute\; and a free flow of soft drinks\, beer\, and wine.<br />\n<br />\n<u>Remark:</u><br />\n<br />\n- A pre-registration and payment in advance are prerequisites.<br />\n<br />\n- Proof of negative ATK test taken within 36 hours of arriving at the event to be shown at registration. A simple photo of a negative result with something that indicates the date/time included will suffice.<br />\n<br />\n- Cancellation 3 days before the event and payment will not be refunded but can be transferred to next event&#39\;s credit.<br />\n<br />\n- No-shows are not able to receive a refund or credit.</p>\n
LOCATION:Pullman Pattaya Hotel G
UID:e.3314.2227
SEQUENCE:3
DTSTAMP:20260420T233559Z
URL:http://www.connect.amchamthailand.com/events/details/multi-chambers-eastern-seaboard-networking-hosted-by-ntcc-beluthai-netherlands-thai-chamber-of-commerce-2227
END:VEVENT

END:VCALENDAR
