BEGIN:VCALENDAR
VERSION:2.0
PRODID:-//ChamberMaster//Event Calendar 2.0//EN
METHOD:PUBLISH
X-PUBLISHED-TTL:P3D
REFRESH-INTERVAL:P3D
CALSCALE:GREGORIAN
BEGIN:VEVENT
DTSTART:20201016T100000Z
DTEND:20201016T143000Z
X-MICROSOFT-CDO-ALLDAYEVENT:FALSE
SUMMARY:Multi-Chambers ESB Briefing and Business Networking hosted by BCCT
DESCRIPTION:REGISTER  HERE\n\n\n\nBCCT\, in cooperation with AMCHAM\, AustCham\, BeLuThai\, CanCham\, GTCC\, NTCC\, STCC & SATCC\, cordially invites you to a Multi-Chamber Eastern Seaboard Briefing and Business Networking. \n\nSpend your evening meeting great business people while enjoying exquisite food and free flow drinks.\n\n\n\nMenu:\n\nCocktail Canapes: Homemade crackers and grissini\; Cider glazed pork bell\, sweet potato hash\; Parma ham & melon\; Spicy chicken in cucumber and Tomato & Mozzarella cheese\n\nHot Canapes: Deep fried minced pork on toast Larb flavor\; Clam garlic butter volauvent and Warm E-Sarn sausage salad\n\nCaving: Roast pork loin and honey ham\n\nLive: Phat Thai shrimps and Crepe Suzettes with vanilla ice cream\n\nDesserts: Vanilla custard\; Fruit tart\; Mango sticky rice and Lemon cream Eclair\n\nDrinks: Merlot & Pinot Grigio Wine on tap\, Draught Beer & Soft drinks\n\n\n\nParticipating chambers members can book directly to banthita@bccthai.com
X-ALT-DESC;FMTTYPE=text/html:<p><span style="font-size:14px\;"><strong>REGISTER&nbsp\;&nbsp\;<span style="font-family:verdana\,sans-serif\;"><a href="https://members.bccthai.com/BCCT/asp/eventdetail.asp?EventID=3511&amp\;SponsorID=-1"><span style="color:#0000CD\;">HERE</span></a></span></strong></span><br />\n<br />\nBCCT\, in cooperation with AMCHAM\, AustCham\, BeLuThai\, CanCham\, GTCC\, NTCC\, STCC &amp\; SATCC\, cordially invites you to a Multi-Chamber Eastern Seaboard Briefing and&nbsp\;Business Networking.&nbsp\;</p>\n\n<p>Spend your evening meeting great business people while enjoying exquisite food and free flow drinks.<br />\n<br />\nMenu:<br />\nCocktail Canapes: Homemade crackers and grissini\; Cider glazed pork bell\, sweet potato hash\; Parma ham &amp\; melon\; Spicy chicken in cucumber and Tomato &amp\; Mozzarella cheese<br />\nHot Canapes: Deep fried minced pork on toast Larb flavor\; Clam garlic butter volauvent and Warm E-Sarn sausage salad<br />\nCaving: Roast pork loin and honey ham<br />\nLive: Phat Thai shrimps and Crepe Suzettes with vanilla ice cream<br />\nDesserts: Vanilla custard\; Fruit tart\; Mango sticky rice and Lemon cream Eclair<br />\nDrinks: Merlot &amp\; Pinot Grigio Wine on tap\, Draught Beer &amp\; Soft drinks<br />\n<br />\nParticipating chambers members can book directly to <a href="mailto:banthita@bccthai.com">banthita@bccthai.com</a></p>\n
LOCATION:Beach Quarter Events\, Amari Pattaya Amari Pattaya is offering a special room rate on Friday 16th October for a deluxe room with breakfast at THB 2\,700 net. RSVP: please email Khun Waan - voraruetai.p@onyx-hospitality.com or call 061-462-9395 BCCT offers a transport leaving Bangkok at 1.00 pm (sharp) to Pattaya and returning the same night after the event. Cost is THB 500/person. If you are interested in joining us please email banthita@bccthai.com
UID:e.3314.1720
SEQUENCE:3
DTSTAMP:20260422T112128Z
URL:http://www.connect.amchamthailand.com/events/details/multi-chambers-esb-briefing-and-business-networking-hosted-by-bcct-1720
END:VEVENT

END:VCALENDAR
