BEGIN:VCALENDAR
VERSION:2.0
PRODID:-//ChamberMaster//Event Calendar 2.0//EN
METHOD:PUBLISH
X-PUBLISHED-TTL:P3D
REFRESH-INTERVAL:P3D
CALSCALE:GREGORIAN
BEGIN:VEVENT
DTSTART:20191018T110000Z
DTEND:20191018T133000Z
X-MICROSOFT-CDO-ALLDAYEVENT:FALSE
SUMMARY:Multi Chambers ESB Networking hosted by AMCHAM @ Holiday Inn Pattaya
DESCRIPTION:Looking for a great place to do business networking on the Eastern Seaboard in a social environment? Then join us for a Multi Chambers Eastern Seaboard Networking at East Coast Kitchen\, Executive Tower\, Holiday Inn Pattaya hosted by the American Chamber of Commerce in Thailand (AMCHAM) and held in conjunction with the British\, Australian\, German\, Mexican\, Canadian\, South African\, Dutch and Belgian-Luxembourg chambers of commerce in Thailand.\n\n\n\nBring your cards and join colleagues from other chambers for great networking at Havana Bar\, Holiday Inn Pattaya. Havana Bar is the only entertainment & events bar in North Pattaya. Their friendly team members are ready to provide you with great service\, mouth-watering bar snack selections\, and an expansive drinks menu.\n\n\n\nThank you to our sponsors:\n\n\n\nHoliday Inn Pattaya is located in the heart of one of Thailand's prominent beach destinations. It's the perfect choice for corporate travelers and business groups looking to combine work with leisure.\n\nOur meeting space\, called 'The Workshop' is an innovative\, creative and flexible space where you can host a variety of activities such as team building\, plenary sessions or product launches. The Workshop also includes Pattaya's first auditorium facility within a hotel\, three meeting rooms enhanced by natural daylight\, latest audio-visual technology and a spacious outdoor terrace\, all designed around a central networking space in the style of a retro garage. VIP delegates can also enjoy the 25th floor Executive Club\, where breakfast is served for 6am and drinks and canap s are served each evening accompanies by spectacular views over Pattaya's coastline.\n\n\n\nFor a beach side dining experience\, Terrazzo Restaurant and Bar is located at the front of the hotel on beach road serving pizza\, pasta\, burgers\, salad and signature Thai dishes along with an extensive wine\, beer and cocktail menu. For a more upbeat venue try Havana Bar featuring a live entertainment every Friday and Saturday nights.\n\n \n\nWHA Industrial Development Plc (Formerly known as Hemaraj Land And Development Plc.)\, a subsidiary of WHA Corporation PCL.\, is Thailand's leading developer of Industrial Estates\, Utilities\, Power\, and Property Solutions. Multinational companies have selected WHA's industrial estates as the strategic location for their investments in Thailand. WHA ID offer developed Industrial land\, Utilities\, Ready Built factories for rent\, quality industrial services\, and an integrated logistics and supply chain.\n\n\n\nWHA ID develops and operates 9+ industrial estates\, mostly located in the Eastern Economic Corridor [EEC]\, covering 46\,434 rai (7\,429 hectare) and 875\,000 square meters of Ready Built Factories with Built to Suit requirement and Logistics Parks. WHA's industrial estates has been promoted to Industrial Promotion Zone under EEC program such as Aerospace & Logistics\, Next Generation Automotive\, Robotics & Automotive Industry\, and etc. Our 719 distinct customers include 243 automotive customers with 1\,088 Land or factory contracts have invested more than USD 30.5 billion.\n\n\n\nAccommodation\n\nHoliday Inn Pattaya is offering a special room rate for chambers' members and guests:\n\n	Deluxe THB 3\,700 net per room per night - inclusive of breakfast.\n	Ocean THB 4\,000 net per room per night - inclusive of breakfast.\n	Executive club Ocen view THB  4\,500 net per room per night - Club benefit\n\nFor reservation\, please contact Khun Unchalee (Ashley) Chamnithurakarn at Unchalee.Chamnithurakarn@ihg.com\n\n\n\nBooking deadline: October 17\, 12 noon.
X-ALT-DESC;FMTTYPE=text/html:Looking for a great place to do business networking on the Eastern Seaboard in a social environment? Then join us for a Multi Chambers Eastern Seaboard Networking at East Coast Kitchen\, Executive Tower\, Holiday Inn Pattaya hosted by the American Chamber of Commerce in Thailand (AMCHAM) and held in conjunction with the British\, Australian\, German\, Mexican\, Canadian\, South African\, Dutch and Belgian-Luxembourg chambers of commerce in Thailand.<br />\n<br />\nBring your cards and join colleagues from other chambers for great networking at Havana Bar\, Holiday Inn Pattaya. Havana Bar is the only entertainment &amp\; events bar in North Pattaya. Their friendly team members are ready to provide you with great service\, mouth-watering bar snack selections\, and an expansive drinks menu.<br />\n<br />\nThank you to our sponsors:<br />\n<br />\n<strong>Holiday Inn Pattaya </strong>is located in the heart of one of Thailand&rsquo\;s prominent beach destinations. It&rsquo\;s the perfect choice for corporate travelers and business groups looking to combine work with leisure.<br />\nOur meeting space\, called &lsquo\;The Workshop&rsquo\; is an innovative\, creative and flexible space where you can host a variety of activities such as team building\, plenary sessions or product launches. The Workshop also includes Pattaya&rsquo\;s first auditorium facility within a hotel\, three meeting rooms enhanced by natural daylight\, latest audio-visual technology and a spacious outdoor terrace\, all designed around a central networking space in the style of a retro garage. VIP delegates can also enjoy the 25th floor Executive Club\, where breakfast is served for 6am and drinks and canap&eacute\;s are served each evening accompanies by spectacular views over Pattaya&rsquo\;s coastline.<br />\n<br />\nFor a beach side dining experience\, Terrazzo Restaurant and Bar is located at the front of the hotel on beach road serving pizza\, pasta\, burgers\, salad and signature Thai dishes along with an extensive wine\, beer and cocktail menu. For a more upbeat venue try Havana Bar featuring a live entertainment every Friday and Saturday nights.<br />\n&nbsp\;<br />\n<strong>WHA Industrial Development Plc </strong>(Formerly known as Hemaraj Land And Development Plc.)\, a subsidiary of WHA Corporation PCL.\, is Thailand&rsquo\;s leading developer of Industrial Estates\, Utilities\, Power\, and Property Solutions. Multinational companies have selected WHA&rsquo\;s industrial estates as the strategic location for their investments in Thailand. WHA ID offer developed Industrial land\, Utilities\, Ready Built factories for rent\, quality industrial services\, and an integrated logistics and supply chain.<br />\n<br />\nWHA ID develops and operates 9+ industrial estates\, mostly located in the Eastern Economic Corridor [EEC]\, covering 46\,434 rai (7\,429 hectare) and 875\,000 square meters of Ready Built Factories with Built to Suit requirement and Logistics Parks. WHA&rsquo\;s industrial estates has been promoted to Industrial Promotion Zone under EEC program such as Aerospace &amp\; Logistics\, Next Generation Automotive\, Robotics &amp\; Automotive Industry\, and etc. Our 719 distinct customers include 243 automotive customers with 1\,088 Land or factory contracts have invested more than USD 30.5 billion.<br />\n<br />\n<u><strong>Accommodation</strong></u><br />\nHoliday Inn Pattaya is offering a special room rate for chambers&#39\; members and guests:\n<ul>\n	<li>Deluxe THB 3\,700 net per room per night - inclusive of breakfast.</li>\n	<li>Ocean THB 4\,000 net per room per night - inclusive of breakfast.</li>\n	<li>Executive club Ocen view THB&nbsp\; 4\,500 net per room per night - Club benefit</li>\n</ul>\nFor reservation\, please contact Khun Unchalee (Ashley) Chamnithurakarn at&nbsp\;<a href="mailto:Unchalee.Chamnithurakarn@ihg.com">Unchalee.Chamnithurakarn@ihg.com</a><br />\n<br />\nBooking deadline: October 17\, 12 noon.
LOCATION:Holiday Inn Pattaya\, Havana Bar\, Chonburi
UID:e.3314.226
SEQUENCE:3
DTSTAMP:20260423T105321Z
URL:http://www.connect.amchamthailand.com/events/details/multi-chambers-esb-networking-hosted-by-amcham-holiday-inn-pattaya-226
END:VEVENT

END:VCALENDAR
