BEGIN:VCALENDAR
VERSION:2.0
PRODID:-//ChamberMaster//Event Calendar 2.0//EN
METHOD:PUBLISH
X-PUBLISHED-TTL:P3D
REFRESH-INTERVAL:P3D
CALSCALE:GREGORIAN
BEGIN:VEVENT
DTSTART:20181019T110000Z
DTEND:20181019T133000Z
X-MICROSOFT-CDO-ALLDAYEVENT:FALSE
SUMMARY:Multi Chambers ESB Networking hosted by AMCHAM @ Holiday Inn Pattaya
DESCRIPTION:If you wish to register for both the networking and the preceding panel discussion on The China-US Trade War: Effects Globally and on Thailand\, please click here.\n\n\n\nLooking for a great place to do business networking on the Eastern Seaboard in a social environment? Then join us for a Joint Chambers Eastern Seaboard Networking at East Coast Kitchen\, Executive Tower\, Holiday Inn Pattaya hosted by the American Chamber of Commerce in Thailand (AMCHAM) and held in conjunction with the British\, Australian\, German\, Mexican\, Canadian\, South African\, Dutch and Belgian-Luxembourg chambers of commerce in Thailand.\n\n\n\nBring your cards and join colleagues from other chambers for great networking at Havana Bar\, Holiday Inn Pattaya. Enjoy the perfect night is a combination of great company and exciting entertainment. Havana Bar is the only entertainment & events bar in North Pattaya. Their friendly team members are ready to provide you with great service\, mouth-watering bar snack selections and expansive drinks menu\, making it the perfect venue.\n\n\n\nThank you to our sponsors:\n\n\n\nHoliday Inn Pattaya is located in the heart of one of Thailand's prominent beach destinations. It's the perfect choice for corporate travelers and business groups looking to combine work with leisure.\n\nOur meeting space\, called 'The Workshop' is an innovative\, creative and flexible space where you can host a variety of activities such as team building\, plenary sessions or product launches. The Workshop also includes Pattaya's first auditorium facility within a hotel\, three meeting rooms enhanced by natural daylight\, latest audio-visual technology and a spacious outdoor terrace\, all designed around a central networking space in the style of a retro garage. VIP delegates can also enjoy the 25th floor Executive Club\, where breakfast is served for 6am and drinks and canap s are served each evening accompanies by spectacular views over Pattaya's coastline.\n\n\n\nFor a beach side dining experience\, Terrazzo Restaurant and Bar is located at the front of the hotel on beach road serving pizza\, pasta\, burgers\, salad and signature Thai dishes along with an extensive wine\, beer and cocktail menu. For a more upbeat venue try Havana Bar featuring a live entertainment every Friday and Saturday nights.\n\n \n\nWHA Industrial Development Plc (Formerly known as Hemaraj Land And Development Plc.)\, a subsidiary of WHA Corporation PCL.\, is Thailand's leading developer of Industrial Estates\, Utilities\, Power\, and Property Solutions. Multinational companies have selected WHA's industrial estates as the strategic location for their investments in Thailand. WHA ID offer developed Industrial land\, Utilities\, Ready Built factories for rent\, quality industrial services\, and an integrated logistics and supply chain.\n\n\n\nWHA ID develops and operates 9+ industrial estates\, mostly located in the Eastern Economic Corridor [EEC]\, covering 46\,434 rai (7\,429 hectare) and 875\,000 square meters of Ready Built Factories with Built to Suit requirement and Logistics Parks. WHA's industrial estates has been promoted to Industrial Promotion Zone under EEC program such as Aerospace & Logistics\, Next Generation Automotive\, Robotics & Automotive Industry\, and etc. Our 719 distinct customers include 243 automotive customers with 1\,088 Land or factory contracts have invested more than USD 30.5 billion.\n\n\n\nWeWork is a global network of workspaces where companies and people grow together. We transform buildings into dynamic environments for creativity\, focus\, and connection. More than just the best place to work\, though\, this is a movement toward humanizing work. We believe that CEOs can help each other\, offices can use the comforts of home\, and we can all look forward to Monday if we find real meaning in what we do.\n\n\n\nPKF Thailand is a professional services firm headquartered at our state-of-the-art offices in the heart of the financial district of Bangkok and is a member of PKF International's global family of legally independent firms. PKF's family consists of over 400 offices\, operating in 150 countries across five regions. We specialise in providing high quality audit\, accounting\, tax\, and business advisory solutions to international and domestic organisations in all markets.\n\n\n\nTheir unique combination of traditional\, hybrid\, and unique service offerings allows us to deliver exceptional support\, insight and value at every stage of your business's development cycle. Their highly experienced team of partners and professionals are bound together by a shared commitment to quality\, integrity and the creation of clarity in a complex regulatory environment.\n\n\n\nAccomodation\n\nHoliday Inn Pattaya is offering a special room rate for chambers' members and guests:\n\n	Deluxe THB 4\,000 net per room per night - inclusive of breakfast.\n	Ocean THB 4\,300 net per room per night - inclusive of breakfast. \n	Superior THB 4\,600 net per room per night - inclusive of breakfast. \n\n\n\nFor reservation please contact khun Unchulee Thammachat\, Assistant Director of Sales - MICE\, email address is unchulee.thammachat@ihg.com\n\n\n\nBooking deadline: October 18\, 12 noon.
X-ALT-DESC;FMTTYPE=text/html:<em>If you wish to register for both the networking and the preceding panel discussion on <strong>The China-US Trade War: Effects&nbsp\;Globally and&nbsp\;on Thailand</strong>\, please click <strong><a href="http://accthailand.chambermaster.com/events/details/joint-chambers-the-china-us-trade-war-its-effects-globally-and-on-thailand-35">here</a></strong>.</em><br />\n<br />\nLooking for a great place to do business networking on the Eastern Seaboard in a social environment? Then join us for a Joint Chambers Eastern Seaboard Networking at East Coast Kitchen\, Executive Tower\, Holiday Inn Pattaya hosted by the American Chamber of Commerce in Thailand (AMCHAM) and held in conjunction with the British\, Australian\, German\, Mexican\, Canadian\, South African\, Dutch and Belgian-Luxembourg chambers of commerce in Thailand.<br />\n<br />\nBring your cards and join colleagues from other chambers for great networking at Havana Bar\, Holiday Inn Pattaya. Enjoy the perfect night is a combination of great company and exciting entertainment. Havana Bar is the only entertainment &amp\; events bar in North Pattaya. Their friendly team members are ready to provide you with great service\, mouth-watering bar snack selections and expansive drinks menu\, making it the perfect venue.<br />\n<br />\nThank you to our sponsors:<br />\n<br />\n<strong>Holiday Inn Pattaya </strong>is located in the heart of one of Thailand&rsquo\;s prominent beach destinations. It&rsquo\;s the perfect choice for corporate travelers and business groups looking to combine work with leisure.<br />\nOur meeting space\, called &lsquo\;The Workshop&rsquo\; is an innovative\, creative and flexible space where you can host a variety of activities such as team building\, plenary sessions or product launches. The Workshop also includes Pattaya&rsquo\;s first auditorium facility within a hotel\, three meeting rooms enhanced by natural daylight\, latest audio-visual technology and a spacious outdoor terrace\, all designed around a central networking space in the style of a retro garage. VIP delegates can also enjoy the 25th floor Executive Club\, where breakfast is served for 6am and drinks and canap&eacute\;s are served each evening accompanies by spectacular views over Pattaya&rsquo\;s coastline.<br />\n<br />\nFor a beach side dining experience\, Terrazzo Restaurant and Bar is located at the front of the hotel on beach road serving pizza\, pasta\, burgers\, salad and signature Thai dishes along with an extensive wine\, beer and cocktail menu. For a more upbeat venue try Havana Bar featuring a live entertainment every Friday and Saturday nights.<br />\n&nbsp\;<br />\n<strong>WHA Industrial Development Plc </strong>(Formerly known as Hemaraj Land And Development Plc.)\, a subsidiary of WHA Corporation PCL.\, is Thailand&rsquo\;s leading developer of Industrial Estates\, Utilities\, Power\, and Property Solutions. Multinational companies have selected WHA&rsquo\;s industrial estates as the strategic location for their investments in Thailand. WHA ID offer developed Industrial land\, Utilities\, Ready Built factories for rent\, quality industrial services\, and an integrated logistics and supply chain.<br />\n<br />\nWHA ID develops and operates 9+ industrial estates\, mostly located in the Eastern Economic Corridor [EEC]\, covering 46\,434 rai (7\,429 hectare) and 875\,000 square meters of Ready Built Factories with Built to Suit requirement and Logistics Parks. WHA&rsquo\;s industrial estates has been promoted to Industrial Promotion Zone under EEC program such as Aerospace &amp\; Logistics\, Next Generation Automotive\, Robotics &amp\; Automotive Industry\, and etc. Our 719 distinct customers include 243 automotive customers with 1\,088 Land or factory contracts have invested more than USD 30.5 billion.<br />\n<br />\n<strong>WeWork </strong>is a global network of workspaces where companies and people grow together. We transform buildings into dynamic environments for creativity\, focus\, and connection. More than just the best place to work\, though\, this is a movement toward humanizing work. We believe that CEOs can help each other\, offices can use the comforts of home\, and we can all look forward to Monday if we find real meaning in what we do.<br />\n<br />\n<strong>PKF Thailand</strong> is a professional services firm headquartered at our state-of-the-art offices in the heart of the financial district of Bangkok and is a member of PKF International&rsquo\;s global family of legally independent firms. PKF&rsquo\;s family consists of over 400 offices\, operating in 150 countries across five regions. We specialise in providing high quality audit\, accounting\, tax\, and business advisory solutions to international and domestic organisations in all markets.<br />\n<br />\nTheir unique combination of traditional\, hybrid\, and unique service offerings allows us to deliver exceptional support\, insight and value at every stage of your business&rsquo\;s development cycle. Their highly experienced team of partners and professionals are bound together by a shared commitment to quality\, integrity and the creation of clarity in a complex regulatory environment.<br />\n<br />\n<strong>Accomodation</strong><br />\nHoliday Inn Pattaya is offering a special room rate for chambers&#39\; members and guests:\n<ul>\n	<li>Deluxe THB 4\,000 net per room per night - inclusive of breakfast.</li>\n	<li>Ocean THB 4\,300 net per room per night - inclusive of breakfast.&nbsp\;</li>\n	<li>Superior THB 4\,600 net per room per night - inclusive of breakfast.&nbsp\;</li>\n</ul>\n<br />\nFor reservation please contact khun Unchulee Thammachat\, Assistant Director of Sales - MICE\, email address is unchulee.thammachat@ihg.com<br />\n<br />\nBooking deadline: October 18\, 12 noon.
LOCATION:Holiday Inn Pattaya\, Chonburi
UID:e.3314.56
SEQUENCE:3
DTSTAMP:20260424T044237Z
URL:http://www.connect.amchamthailand.com/events/details/multi-chambers-esb-networking-hosted-by-amcham-holiday-inn-pattaya-56
END:VEVENT

END:VCALENDAR
