BEGIN:VCALENDAR
VERSION:2.0
PRODID:-//ChamberMaster//Event Calendar 2.0//EN
METHOD:PUBLISH
X-PUBLISHED-TTL:P3D
REFRESH-INTERVAL:P3D
CALSCALE:GREGORIAN
BEGIN:VEVENT
DTSTART:20181214T113000Z
DTEND:20181214T140000Z
X-MICROSOFT-CDO-ALLDAYEVENT:FALSE
SUMMARY:Multi-Chambers ESB Networking hosted by BCCT
DESCRIPTION:Looking for a great place to network on the Eastern Seaboard in a friendly social environment? Then come along to the Eastern Seaboard Joint Chamber Networking event in Pattaya. The event is hosted by the British Chamber of Commerce Thailand (BCCT).\n\n\n\nBooking deadline: December 13\, 12 noon.
X-ALT-DESC;FMTTYPE=text/html:Looking for a great place to network on the Eastern Seaboard in a friendly social environment? Then come along to the Eastern Seaboard Joint Chamber Networking event in Pattaya. The event is hosted by the British Chamber of Commerce Thailand (BCCT).<br />\n<br />\nBooking deadline: December 13\, 12 noon.
LOCATION:Royal Varuna Yacht Club\, Phra Tamnak\, Bang Lamung\, Chonburi
UID:e.3314.62
SEQUENCE:3
DTSTAMP:20260424T012402Z
URL:http://www.connect.amchamthailand.com/events/details/multi-chambers-esb-networking-hosted-by-bcct-62
END:VEVENT

END:VCALENDAR
