BEGIN:VCALENDAR
VERSION:2.0
PRODID:-//ChamberMaster//Event Calendar 2.0//EN
METHOD:PUBLISH
X-PUBLISHED-TTL:P3D
REFRESH-INTERVAL:P3D
CALSCALE:GREGORIAN
BEGIN:VEVENT
DTSTART:20230616T100000Z
DTEND:20230616T140000Z
X-MICROSOFT-CDO-ALLDAYEVENT:FALSE
SUMMARY:Multi-Chambers ESB Networking hosted by NTCC & BeLuThai
DESCRIPTION:Please be advised that this function is a partner event with an external organizer. The registration link will send you away from the AMCHAM website to the website of the organizer.  Please be advised that this event organizer may have different data collection/privacy and event cancellation policies than AMCHAM Thailand.\n\nREGISTER NOW\n\n \n\nAMCHAM Thailand\, in collaboration with the Netherlands - Thai Chamber of Commerce (NTCC) & Belgian-Luxembourg/Thai Chamber of Commerce (BeluThai)\, Australian-Thai Chamber of Commerce (AustCham)\, British Chamber of Commerce Thailand (BCCT)\, Cancham Thailand\, German-Thai Chamber of Commerce (GTCC)\, South African Chamber (SATCC)\, and Singapore-Thai Chamber of Commerce (STCC) proudly present 'Multi-Chambers Eastern Seaboard Networking' at Latitude by the Beach\, InterContinental Pattaya. Members and friends in the area and those who have a business meeting nearby\, please join us at this Multi-Chambers ESB Networking event! The theme of the event will be: Artificial intelligence: Threat or opportunity?\n\n \n\nArtificial Intelligence (AI) is a rapidly advancing field of computer science that focuses on creating intelligent machines capable of performing tasks that typically require human intelligence. AI systems aim to simulate human cognitive abilities\, such as learning\, reasoning\, problem-solving\, perception\, and language understanding. The goal is to develop machines that can analyze vast amounts of data\, recognize patterns\, make informed decisions\, and adapt to changing circumstances.\n\n \n\nSpeaker:\n\nDr. Kobkrit Viriyayudhakorn is the president of the Artificial Intelligence Entrepreneur Association of Thailand (AIEAT) and will be the speaker during the Multi-Chambers Eastern Seaboard Networking. He is the creator of CS_UNTITLED Counter-Strike Map\, Founder of App Technology\, and Co-Founder of Rushbike. During the event\, he will talk about artificial intelligence and different AI tools\, which you can later try during the event.
X-ALT-DESC;FMTTYPE=text/html:<p>Please be advised that this function is a partner event with an external organizer. The registration link will send you away from the AMCHAM website to the website of the organizer.&#8203\; Please be advised that this event organizer may have different data collection/privacy and event cancellation policies than AMCHAM Thailand.</p>\n\n<p><a href="https://app.glueup.com/event/79592/register/"><span style="font-size:16px\;"><span style="font-family:arial\;"><strong><span style="color:#000080\;">REGISTER NOW</span></strong></span></span></a><br />\n&nbsp\;<br />\nAMCHAM Thailand\, in collaboration with&nbsp\;the Netherlands - Thai Chamber of Commerce (NTCC) &amp\;&nbsp\;Belgian-Luxembourg/Thai Chamber of Commerce (BeluThai)\, Australian-Thai Chamber of Commerce (AustCham)\, British Chamber of Commerce Thailand (BCCT)\, Cancham Thailand\,&nbsp\;German-Thai Chamber of Commerce (GTCC)\, South African Chamber (SATCC)\, and Singapore-Thai Chamber of Commerce (STCC) proudly present &#39\;Multi-Chambers Eastern Seaboard Networking&#39\;&nbsp\;at Latitude by the Beach\, InterContinental Pattaya. Members and friends in the area and those who have a business meeting nearby\, please join us at this Multi-Chambers ESB Networking event! The theme of the event will be: Artificial intelligence: Threat or opportunity?<br />\n&nbsp\;<br />\nArtificial Intelligence (AI) is a rapidly advancing field of computer science that focuses on creating intelligent machines capable of performing tasks that typically require human intelligence. AI systems aim to simulate human cognitive abilities\, such as learning\, reasoning\, problem-solving\, perception\, and language understanding. The goal is to develop machines that can analyze vast amounts of data\, recognize patterns\, make informed decisions\, and adapt to changing circumstances.<br />\n&nbsp\;<br />\n<strong>Speaker:</strong><br />\nDr. Kobkrit Viriyayudhakorn is the president of the Artificial Intelligence Entrepreneur Association of Thailand (AIEAT) and will be the speaker during the Multi-Chambers Eastern Seaboard Networking. He is the creator of CS_UNTITLED Counter-Strike Map\, Founder of App Technology\, and Co-Founder of Rushbike. During the event\, he will talk about artificial intelligence and different AI tools\, which you can later try during the event.</p>\n
LOCATION:InterContinental Pattaya Resort
UID:e.3314.2558
SEQUENCE:3
DTSTAMP:20260419T235250Z
URL:http://www.connect.amchamthailand.com/events/details/multi-chambers-esb-networking-hosted-by-ntcc-beluthai-2558
END:VEVENT

END:VCALENDAR
