BEGIN:VCALENDAR
VERSION:2.0
PRODID:-//ChamberMaster//Event Calendar 2.0//EN
METHOD:PUBLISH
X-PUBLISHED-TTL:P3D
REFRESH-INTERVAL:P3D
CALSCALE:GREGORIAN
BEGIN:VEVENT
DTSTART:20190118T110000Z
DTEND:20190118T140000Z
X-MICROSOFT-CDO-ALLDAYEVENT:FALSE
SUMMARY:Multi-Chambers ESB Networking hosted by SATCC
DESCRIPTION:Looking for a great place to network on the Eastern Seaboard in a friendly social environment? Then come along to the Eastern Seaboard Joint Chamber Networking event in Pattaya. The event is hosted by the South African-Thai Chamber of Commerce (SATCC).\n\n\n\nBooking deadline: January 17\, 12 noon.
X-ALT-DESC;FMTTYPE=text/html:<p><span style="font-size:14px\;"><span style="font-family:arial\;">Looking for a great place to network on the Eastern Seaboard in a friendly social environment? Then come along to the Eastern Seaboard Joint Chamber Networking event in Pattaya. The event is hosted by the South African-Thai Chamber of Commerce (SATCC).</span></span><br />\n<br />\n<span style="font-size:14px\;"><span style="font-family:arial\;">Booking deadline: January 17\, 12 noon.</span></span></p>\n
LOCATION:Holiday Inn Pattaya\, Chonburi
UID:e.3314.137
SEQUENCE:3
DTSTAMP:20260423T235732Z
URL:http://www.connect.amchamthailand.com/events/details/multi-chambers-esb-networking-hosted-by-satcc-137
END:VEVENT

END:VCALENDAR
