BEGIN:VCALENDAR
VERSION:2.0
PRODID:-//ChamberMaster//Event Calendar 2.0//EN
METHOD:PUBLISH
X-PUBLISHED-TTL:P3D
REFRESH-INTERVAL:P3D
CALSCALE:GREGORIAN
BEGIN:VEVENT
DTSTART:20181019T090000Z
DTEND:20181019T110000Z
X-MICROSOFT-CDO-ALLDAYEVENT:FALSE
SUMMARY:Multi Chambers Panel Discussion: The China - US Trade War: Its Effects Globally and on Thailand
DESCRIPTION:You are invited to join the upcoming panel discussion on "The China: US Trade War: Its Effects Globally and on Thailand."\n\n \n\nJoin us for an informative and lively discussion on the escalating trade war between the world's two biggest economies. With a combined income of over USD 600 billion in trade\, these two countries have been locked in a tit-for-tat tariff battle that continues to intensify and broaden. The IMF estimates that a worsening US-China trade war might cost the global economy USD 430 billion\, or 0.5% of the global GDP.\n\n \n\nThe AMCHAM Trade & Investment Committee and Automotive Council are pleased to present an impressive panel of expert speakers\, who will provide updates on the trade war\; its potential ripple effect on global commerce\; and the risks and opportunities this could present to Thailand\, as a global production and export hub for industries impacted by the trade war.\n\n \n\nThis event will be held in Pattaya and will precede the October Eastern Seaboard (ESB) Networking Evening\, also hosted by AMCHAM. The event is held in conjunction with the Australian\, British\, Canadian\, German\, Mexican\, Singapore\, South African\, Dutch and BeluThai Chambers of Commerce.\n\n\n\n\n\nAgenda:\n\n4:00 pm     Registration\n\n4:30 pm     Dr. Nigel Gould-Davies\, Senior Adviser for Vriens & Partners and an Associate Fellow of Chatham House.\n\n4:45 pm     Mr. Christopher Bruton\, Executive Director\, Dataconsult Ltd.\n\n5:00 pm     Mr. David Nardone\, Group Executive - Industrial and International\, WHA Industrial Development\n\n                  Public Company Limited\n\n5:15 pm     Panel discussion will be moderated by Mr. Andrew McBean\, Chief Executive Officer\,\n\n                  PKF Holdings (Thailand) Ltd.\n\n5:50 pm     Photo opportunity\n\n6:00 pm     Meeting ends and move to Eastern Seaboard Networking
X-ALT-DESC;FMTTYPE=text/html:<p>You are invited&nbsp\;to join the upcoming panel discussion on &quot\;The China:&nbsp\;US Trade War: Its Effects Globally and on Thailand.&quot\;<br />\n&nbsp\;<br />\nJoin us for an informative and lively discussion on the escalating trade war between the world&#39\;s two biggest economies. With a combined income of over USD 600 billion in trade\, these two countries have been locked in a tit-for-tat tariff battle that continues to intensify and broaden. The IMF estimates that a worsening US-China trade war might cost the global economy USD 430 billion\, or 0.5% of the global GDP.<br />\n&nbsp\;<br />\nThe AMCHAM Trade &amp\; Investment Committee and Automotive Council are pleased to present an impressive panel of expert speakers\, who will provide updates on the trade war\; its potential ripple effect on global commerce\; and the risks and opportunities this could present to&nbsp\;Thailand\, as a global production and export hub for industries impacted by the trade war.<br />\n&nbsp\;<br />\nThis event will be held in Pattaya and will precede the October Eastern Seaboard (ESB) Networking Evening\, also hosted by AMCHAM. The event is held in conjunction with the Australian\, British\, Canadian\, German\, Mexican\, Singapore\, South African\, Dutch and BeluThai Chambers of Commerce.<br />\n<br />\n<br />\n<strong>Agenda:</strong><br />\n4:00 pm&nbsp\;&nbsp\;&nbsp\; &nbsp\;Registration<br />\n4:30 pm&nbsp\;&nbsp\;&nbsp\;&nbsp\; <a href="http://www.amchamthailand.com/asp/view_doc.asp?DocCID=5902">Dr. Nigel Gould-Davies</a>\, Senior Adviser for Vriens &amp\; Partners and an Associate Fellow of Chatham House.<br />\n4:45 pm&nbsp\;&nbsp\;&nbsp\;&nbsp\; <a href="https://www.amchamthailand.com/asp/view_doc.asp?DocCID=5905">Mr. Christopher Bruton</a>\, Executive Director\, Dataconsult Ltd.<br />\n5:00 pm&nbsp\;&nbsp\;&nbsp\;&nbsp\; <a href="https://www.amchamthailand.com/asp/view_doc.asp?DocCID=5901">Mr. David Nardone</a>\,&nbsp\;Group Executive - Industrial and International\, WHA Industrial Development<br />\n&nbsp\;&nbsp\;&nbsp\;&nbsp\;&nbsp\;&nbsp\;&nbsp\;&nbsp\;&nbsp\;&nbsp\;&nbsp\;&nbsp\;&nbsp\;&nbsp\;&nbsp\;&nbsp\;&nbsp\; Public&nbsp\;Company&nbsp\;Limited<br />\n5:15 pm&nbsp\;&nbsp\;&nbsp\;&nbsp\;&nbsp\;Panel discussion will be moderated by <a href="http://www.amchamthailand.com/asp/view_doc.asp?DocCID=5903">Mr. Andrew McBean</a>\, Chief Executive Officer\,<br />\n&nbsp\;&nbsp\;&nbsp\;&nbsp\;&nbsp\;&nbsp\;&nbsp\;&nbsp\;&nbsp\;&nbsp\;&nbsp\;&nbsp\;&nbsp\;&nbsp\;&nbsp\;&nbsp\;&nbsp\; PKF&nbsp\;Holdings (Thailand) Ltd.<br />\n5:50 pm&nbsp\;&nbsp\;&nbsp\;&nbsp\;&nbsp\;Photo opportunity<br />\n6:00 pm&nbsp\;&nbsp\;&nbsp\;&nbsp\;&nbsp\;Meeting ends and move to Eastern Seaboard Networking</p>\n
LOCATION:Holiday Inn Pattaya\, Chonburi Auditorium at the Executive Tower
UID:e.3314.35
SEQUENCE:3
DTSTAMP:20260424T055712Z
URL:http://www.connect.amchamthailand.com/events/details/multi-chambers-panel-discussion-the-china-us-trade-war-its-effects-globally-and-on-thailand-35
END:VEVENT

END:VCALENDAR
