BEGIN:VCALENDAR
VERSION:2.0
PRODID:-//ChamberMaster//Event Calendar 2.0//EN
METHOD:PUBLISH
X-PUBLISHED-TTL:P3D
REFRESH-INTERVAL:P3D
CALSCALE:GREGORIAN
BEGIN:VEVENT
DTSTART:20190913T110000Z
DTEND:20190913T140000Z
X-MICROSOFT-CDO-ALLDAYEVENT:FALSE
SUMMARY:Multi-Chambers Phuket Sundowners
DESCRIPTION:REGISTER NOW\n\nAMCHAM Thailand in collaboration with AustCham Thailand\, Australian Alumni\, British Chamber of Commerce Thailand (BCCT)\, CanCham Thailand\, German-Thai Chamber of Commerce (GTCC) and Singapore-Thai Chamber of Commerce (STCC)\, is hosting the Phuket Sundowner on Friday\, September 13 at Phuket Boat Lagoon.\n\nTaking advantage of the beautiful surroundings at the Boat Lagoon\, the Phuket Sundowners offers a great opportunity to network with like-minded people from the business community.\n\nPrior to the Sundowners\, there will be a Panel Discussion on "Asian Regattas   Highlights on Phuket\, Towards Sustainability"\, with a panel of experts on organising and participating in regattas in Phuket and throughout Asia.
X-ALT-DESC;FMTTYPE=text/html:<p><a href="https://www.austchamthailand.com/event-3507291"><strong><span style="color:#000080\;">REGISTER NOW</span></strong></a></p>\n\n<p>AMCHAM Thailand in collaboration with AustCham Thailand\, Australian Alumni\, British Chamber of Commerce Thailand (BCCT)\,&nbsp\;CanCham Thailand\, German-Thai Chamber of Commerce (GTCC) and Singapore-Thai Chamber of Commerce (STCC)\, is hosting the Phuket Sundowner on Friday\, September 13 at Phuket Boat Lagoon.</p>\n\n<p>Taking advantage of the beautiful surroundings at the Boat Lagoon\, the Phuket Sundowners offers a great opportunity to network with like-minded people from the business community.</p>\n\n<p>Prior to the Sundowners\, there will be a Panel Discussion on &ldquo\;Asian Regattas &ndash\; Highlights on Phuket\, Towards Sustainability&rdquo\;\, with a panel of experts on organising and participating in regattas in Phuket and throughout Asia.&nbsp\;</p>\n
LOCATION:Location: Phuket Boat Lagoon
UID:e.3314.375
SEQUENCE:3
DTSTAMP:20260423T105116Z
URL:http://www.connect.amchamthailand.com/events/details/multi-chambers-phuket-sundowners-375
END:VEVENT

END:VCALENDAR
