BEGIN:VCALENDAR
VERSION:2.0
PRODID:-//ChamberMaster//Event Calendar 2.0//EN
METHOD:PUBLISH
X-PUBLISHED-TTL:P3D
REFRESH-INTERVAL:P3D
CALSCALE:GREGORIAN
BEGIN:VEVENT
DTSTART:20190924T113000Z
DTEND:20190924T133000Z
X-MICROSOFT-CDO-ALLDAYEVENT:FALSE
SUMMARY:Multi-Chambers The New Merger Provisions in the Trade Competition Act: How Should Your Business Prepare?
DESCRIPTION:REGISTER HERE\n\n\n\nAMCHAM in collaboration with BCCT and AustCham invite you to an evening presentation on new merger provisions in the Trade Competition Act and its implications for your business.  \n\n\n\nThe amended Trade Competition Act (2017) imposes substantial merger notification obligations where relevant turnover exceeds 1 billion Baht. Mergers are defined to include not only mergers between competitors or between buyers and sellers but also the acquisition of all or part of the assets or stocks in order to control another business. \n\n\n\nPermission must be obtained from the Trade Competition Commission in advance where the outcome leads to a monopoly or a dominant position.  Other mergers that 'substantially reduce competition' must be notified to the Commission within seven days of completion.  To comply\, businesses contemplating mergers or acquisitions must aware of all relevant competition law markets involved in the transaction and be able to assess the likely impact of the merger on competition.
X-ALT-DESC;FMTTYPE=text/html:<p><a href="http://members.bccthai.com/BCCT/asp/eventbook.asp?member=N&amp\;EventID=3476"><span style="color:#000080\;"><strong>REGISTER HERE</strong></span></a><br />\n<br />\nAMCHAM in collaboration with BCCT&nbsp\;and AustCham invite you to an evening presentation on new merger provisions in the Trade Competition Act and its implications for your business.&nbsp\;&nbsp\;<br />\n<br />\nThe amended Trade Competition Act (2017) imposes substantial merger notification obligations where relevant turnover exceeds&nbsp\;1 billion Baht. Mergers are defined to include not only mergers between competitors or between buyers and sellers but also the acquisition of all or part of the assets or stocks in order to control another business.&nbsp\;<br />\n<br />\nPermission must be obtained from the Trade Competition Commission in advance where the outcome leads to a monopoly or a dominant position.&nbsp\; Other mergers that &lsquo\;substantially reduce competition&rsquo\; must be notified to the Commission within seven days of completion.&nbsp\; To comply\, businesses contemplating mergers or acquisitions must aware of all relevant competition law markets involved in the transaction and be able to assess the likely impact of the merger on competition.&nbsp\;</p>\n\n<p>&nbsp\;</p>\n
LOCATION:Dream Bangkok Soi Sukhumvit 15 (BTS: Asoke exit 1 or MRT: Sukhumvit exit 3)
UID:e.3314.392
SEQUENCE:3
DTSTAMP:20260423T105703Z
URL:http://www.connect.amchamthailand.com/events/details/multi-chambers-the-new-merger-provisions-in-the-trade-competition-act-how-should-your-business-prepare-392
END:VEVENT

END:VCALENDAR
