BEGIN:VCALENDAR
VERSION:2.0
PRODID:-//ChamberMaster//Event Calendar 2.0//EN
METHOD:PUBLISH
X-PUBLISHED-TTL:P3D
REFRESH-INTERVAL:P3D
CALSCALE:GREGORIAN
BEGIN:VEVENT
DTSTART:20220531T070000Z
DTEND:20220531T083000Z
X-MICROSOFT-CDO-ALLDAYEVENT:FALSE
SUMMARY:New Member Orientation
DESCRIPTION:AMCHAM is pleased to welcome new members to the AMCHAM New Member Orientation\; a chance for members to connect with their peers online and learn how to make the most of your AMCHAM membership. This orientation is the perfect opportunity for all members   old and new   to gain valuable insight into all of the Chamber's offerings. Join us to engage with AMCHAM's Leadership\, the Secretariat\, and to find out how you can get the most out of your membership.
X-ALT-DESC;FMTTYPE=text/html:<p background-color:="" font-size:="" trebuchet="">AMCHAM is pleased to welcome new members to&nbsp\;the AMCHAM New Member Orientation\;&nbsp\;a chance for members to connect with their peers online and learn how to make the most of your AMCHAM membership. This orientation&nbsp\;is the perfect opportunity for <em>all</em> members &ndash\; old and new &ndash\; to gain valuable insight into all of the Chamber&#39\;s offerings. Join us to engage with&nbsp\;AMCHAM&#39\;s Leadership\, the Secretariat\, and to find out how you can get the most out of your membership.</p>\n
LOCATION:Video Conference Meeting
UID:e.3314.2155
SEQUENCE:3
DTSTAMP:20260420T233919Z
URL:http://www.connect.amchamthailand.com/events/details/new-member-orientation-2155
END:VEVENT

END:VCALENDAR
