BEGIN:VCALENDAR
VERSION:2.0
PRODID:-//ChamberMaster//Event Calendar 2.0//EN
METHOD:PUBLISH
X-PUBLISHED-TTL:P3D
REFRESH-INTERVAL:P3D
CALSCALE:GREGORIAN
BEGIN:VEVENT
DTSTART:20230329T040000Z
DTEND:20230329T050000Z
X-MICROSOFT-CDO-ALLDAYEVENT:FALSE
SUMMARY:New Member Orientation
DESCRIPTION:AMCHAM is pleased to welcome new members to the AMCHAM New Member Orientation\; a chance for members to connect with their peers and learn how to make the most of your AMCHAM membership. This orientation is the perfect opportunity for all members - old and new - to gain valuable insight into all of the Chamber's offerings. Join us to engage with AMCHAM's Leadership\, the Secretariat\, and to find out how you can get the most out of your membership.\n\n\n\nThis event will be followed by our AGM & Monthly Luncheon\, featuring a panel discussion on A Look Ahead at the Thai Elections. Please note that attendees must register separately to join our luncheon here.
X-ALT-DESC;FMTTYPE=text/html:AMCHAM is pleased to welcome new members to&nbsp\;the AMCHAM New Member Orientation\;&nbsp\;a chance for members to connect with their peers and learn how to make the most of your AMCHAM membership. This orientation&nbsp\;is the perfect opportunity for&nbsp\;all&nbsp\;members - old and new -&nbsp\;to gain valuable insight into all of the Chamber&#39\;s offerings. Join us to engage with&nbsp\;AMCHAM&#39\;s Leadership\, the Secretariat\, and to find out how you can get the most out of your membership.<br background-color:="" font-size:="" trebuchet="" />\n<br background-color:="" font-size:="" trebuchet="" />\nThis event will be followed by our AGM &amp\; Monthly Luncheon\, featuring a panel discussion on A Look Ahead at the Thai Elections. Please note that attendees must<strong>&nbsp\;<a href="https://connect.amchamthailand.com/events/details/agm-member-luncheon-a-look-ahead-at-the-thai-elections-2468?calendarMonth=2023-03-01"><span style="color:#B22222\;">register separately to join our luncheon here</span></a><a href="https://connect.amchamthailand.com/events/details/agm-member-luncheon-a-look-ahead-at-the-thai-elections-2468?calendarMonth=2023-03-01"><span style="color:#B22222\;">.</span></a></strong>
LOCATION:The St. Regis Bangkok\, Rajadamri 1\, 14th Floor BTS Rajadamri
UID:e.3314.2516
SEQUENCE:3
DTSTAMP:20260420T070202Z
URL:http://www.connect.amchamthailand.com/events/details/new-member-orientation-2516
END:VEVENT

END:VCALENDAR
