BEGIN:VCALENDAR
VERSION:2.0
PRODID:-//ChamberMaster//Event Calendar 2.0//EN
METHOD:PUBLISH
X-PUBLISHED-TTL:P3D
REFRESH-INTERVAL:P3D
CALSCALE:GREGORIAN
BEGIN:VEVENT
DTSTART:20210930T070000Z
DTEND:20210930T083000Z
X-MICROSOFT-CDO-ALLDAYEVENT:FALSE
SUMMARY:New Member Orientation & Meet the Board Candidates
DESCRIPTION:AMCHAM is pleased to welcome new members at the AMCHAM New Member Orientation\; a chance for members to connect with their peers online and learn how to make the most of your AMCHAM membership. This orientation is the perfect opportunity for all members   old and new   to gain valuable insight into all of the Chamber's offerings.\n\n\n\nThis meeting will also provide members with the opportunity to meet candidates running for the 2022 -2023 Board of Governors.\n\n\n\nJoin us to engage with the other members\, AMCHAM's Leadership\, the board candidates\, and find out how you can get the most out of your membership.\n*You will receive an invitation with link to join the video conference by COB on the day prior to the meeting*
X-ALT-DESC;FMTTYPE=text/html:<p background-color:="" font-size:="" trebuchet="">AMCHAM is pleased to welcome new members at the AMCHAM New Member Orientation\;&nbsp\;a chance for members to connect with their peers online and learn how to make the most of your AMCHAM membership. This orientation&nbsp\;is the perfect opportunity for all members &ndash\; old and new &ndash\; to gain valuable insight into all of the Chamber&#39\;s offerings.<br />\n<br />\nThis meeting will also provide members with the opportunity to meet candidates running for the 2022&nbsp\;-2023&nbsp\;Board of Governors.<br />\n<br />\nJoin us to engage with the other members\, AMCHAM&#39\;s Leadership\, the board candidates\, and find out how you can get the most out of your membership.</p>\n*You will receive an invitation with link to join the video conference by COB on the day prior to the meeting*
LOCATION:Video Conference Meeting
UID:e.3314.1985
SEQUENCE:3
DTSTAMP:20260421T161414Z
URL:http://www.connect.amchamthailand.com/events/details/new-member-orientation-meet-the-board-candidates-1985
END:VEVENT

END:VCALENDAR
