BEGIN:VCALENDAR
VERSION:2.0
PRODID:-//ChamberMaster//Event Calendar 2.0//EN
METHOD:PUBLISH
X-PUBLISHED-TTL:P3D
REFRESH-INTERVAL:P3D
CALSCALE:GREGORIAN
BEGIN:VEVENT
DTSTART:20201014T070000Z
DTEND:20201014T083000Z
X-MICROSOFT-CDO-ALLDAYEVENT:FALSE
SUMMARY:New Member Orientation & Meet the Board Candidates - Video Conference
DESCRIPTION:AMCHAM is pleased to welcome new members at the AMCHAM New Member Orientation\; a chance for members to connect with their peers online and learn how to make the most of your AMCHAM membership. This orientation is the perfect opportunity for all members   old and new   to gain valuable insight into all of our benefits\, events\, and exclusive Chamber offerings.\n\nThis meeting will also provide members with the opportunity to meet candidates running for the 2021 -2022 Board of Governors.\n\n \n*You will receive an invitation with link to join the video conference by COB on the day prior to the meeting*
X-ALT-DESC;FMTTYPE=text/html:<p background-color:="" font-size:="" trebuchet="">AMCHAM is pleased to welcome new members at the AMCHAM New Member Orientation\;&nbsp\;a chance for members to connect with their peers online and learn how to make the most of your AMCHAM membership. This orientation&nbsp\;is the perfect opportunity for <em>all</em> members &ndash\; old and new &ndash\; to gain valuable insight into all of our benefits\, events\, and exclusive Chamber offerings.</p>\n\n<p background-color:="" font-size:="" trebuchet="">This meeting will also provide members with the opportunity to meet candidates running for the 2021 -2022 Board of Governors.</p>\n\n<p background-color:="" font-size:="" trebuchet="">&nbsp\;</p>\n*You will receive an invitation with link to join the video conference by COB on the day prior to the meeting*
LOCATION:Video Conference Meeting
UID:e.3314.1710
SEQUENCE:3
DTSTAMP:20260422T112751Z
URL:http://www.connect.amchamthailand.com/events/details/new-member-orientation-meet-the-board-candidates-video-conference-1710
END:VEVENT

END:VCALENDAR
