BEGIN:VCALENDAR
VERSION:2.0
PRODID:-//ChamberMaster//Event Calendar 2.0//EN
METHOD:PUBLISH
X-PUBLISHED-TTL:P3D
REFRESH-INTERVAL:P3D
CALSCALE:GREGORIAN
BEGIN:VEVENT
DTSTART:20200513T070000Z
DTEND:20200513T080000Z
X-MICROSOFT-CDO-ALLDAYEVENT:FALSE
SUMMARY:New Member Orientation - Video Conference
DESCRIPTION:AMCHAM is pleased to welcome new members at the AMCHAM New Member Orientation 101\, a chance for members to connect with their peers online and learn how to make the most of your AMCHAM membership. This Orientation  is the perfect opportunity for all members   old and new   to gain valuable insight into all of our benefits\, events\, and exclusive Chamber offerings.\n\n \n\n*You will receive an invitation with link to join the video conference by COB on the day prior to the meeting*
X-ALT-DESC;FMTTYPE=text/html:<p background-color:="" font-size:="" trebuchet=""><span style="font-size:14px\;">AMCHAM is pleased to welcome new members at the AMCHAM New Member Orientation 101\, a chance for members to connect with their peers online and learn how to make the most of your AMCHAM membership. This Orientation&nbsp\; is the perfect opportunity for all members &ndash\; old and new &ndash\; to gain valuable insight into all of our benefits\, events\, and exclusive Chamber offerings.</span><br />\n&nbsp\;</p>\n\n<div style="box-sizing: border-box\; font-family: &quot\;Segoe UI&quot\;\, system-ui\, &quot\;Apple Color Emoji&quot\;\, &quot\;Segoe UI Emoji&quot\;\, sans-serif\; font-size: 14px\;"><span style="font-size:14px\;"><span style="font-family: arial\, sans-serif\;">*You will receive an invitation with link to join the video conference by COB on the day prior to the meeting*</span></span></div>\n
LOCATION:Video Conference Meeting
UID:e.3314.1593
SEQUENCE:3
DTSTAMP:20260422T201349Z
URL:http://www.connect.amchamthailand.com/events/details/new-member-orientation-video-conference-1593
END:VEVENT

END:VCALENDAR
