BEGIN:VCALENDAR
VERSION:2.0
PRODID:-//ChamberMaster//Event Calendar 2.0//EN
METHOD:PUBLISH
X-PUBLISHED-TTL:P3D
REFRESH-INTERVAL:P3D
CALSCALE:GREGORIAN
BEGIN:VEVENT
DTSTART;VALUE=DATE:20181107
DTEND;VALUE=DATE:20181108
TRANSP:TRANSPARENT
X-MICROSOFT-CDO-ALLDAYEVENT:TRUE
SUMMARY:NextGen Aging - Shaping A Smart Future For An Aging Society
DESCRIPTION:REGISTER NOW \n\n\n\nAre you ready to explore the new frontier of aging?\n\n\n\nAMCHAM Thailand and Kenan Institute Asia invite you to join NextGen Aging: Shaping a Smart Future for an Aging Society on November 7\, 2018 at the Dusit Thani Hotel in Bangkok.\n\n\n\nThe conference will bring together leading experts from around the world to share the latest insights about aging and technology. Over the one-day event\, you will learn how private\, public\, and non-profit organizations can collaborate to improve the lives of seniors\, understand how global aging trends create opportunities for business and social innovation\, as well as experience the latest innovations for aging at Kenan?s exclusive technology exhibition.\n\n\n\nKey Speakers\;\n\n\n\nDr. Noel P. Greis\n\nDirector\, Center for Logistics and digital Strategy\, Frank Hawkins Kenan Institute of Private Enterprise\n\n\n\nDr. Suvit Maesincee\n\nMinister of Science and Technology of Thailand.\n\n\n\nDr. Ed Fisher\n\nProfessor\, Department of Health Behavior Gillings School of Global Public Health University of North Carolina-Chapel Hill\n\n\n\nDr. Boon Vanasin\n\nFounder & Chairman\, Thonburi Healthcare Group Public Company Limited
X-ALT-DESC;FMTTYPE=text/html:<br />\n<strong><a href="http://www.kenan-asia.org/nextgenaging/"><span style="color: rgb(0\, 0\, 128)\;">REGISTER NOW</span></a><span style="color: rgb(0\, 0\, 128)\;">&nbsp\;</span></strong><br />\n<br />\nAre you ready to explore the new frontier of aging?<br />\n<br />\nAMCHAM Thailand and Kenan Institute Asia invite you to join NextGen Aging: Shaping a Smart Future for an Aging Society on November 7\, 2018 at the Dusit Thani Hotel in Bangkok.<br />\n<br />\nThe conference will bring together leading experts from around the world to share the latest insights about aging and technology. Over the one-day event\, you will learn how private\, public\, and non-profit organizations can collaborate to improve the lives of seniors\, understand how global aging trends create opportunities for business and social innovation\, as well as experience the latest innovations for aging at Kenan?s exclusive technology exhibition.<br />\n<br />\n<strong>Key Speakers\;</strong><br />\n<br />\n<strong>Dr. Noel P. Greis</strong><br />\nDirector\, Center for Logistics and digital Strategy\, Frank Hawkins Kenan&nbsp\;Institute of Private Enterprise<br />\n<br />\n<strong>Dr. Suvit&nbsp\;Maesincee</strong><br />\nMinister of Science and Technology of Thailand.<br />\n<br />\n<strong>Dr. Ed Fisher</strong><br />\nProfessor\, Department of Health Behavior Gillings&nbsp\;School of Global Public Health University of North Carolina-Chapel Hill<br />\n<br />\n<strong>Dr. Boon Vanasin</strong><br />\nFounder &amp\; Chairman\, Thonburi&nbsp\;Healthcare&nbsp\;Group Public Company Limited<br />\n&nbsp\;
LOCATION:Dusit Thani Bangkok (MRT Silom\, Exit 2)
UID:e.3314.54
SEQUENCE:3
DTSTAMP:20260424T044239Z
URL:http://www.connect.amchamthailand.com/events/details/nextgen-aging-shaping-a-smart-future-for-an-aging-society-54
END:VEVENT

END:VCALENDAR
